BEGIN:VCALENDAR
VERSION:2.0
PRODID:-//jEvents 2.0 for Joomla//EN
CALSCALE:GREGORIAN
METHOD:PUBLISH
BEGIN:VTIMEZONE
TZID:America/New_York
BEGIN:STANDARD
DTSTART:20251102T010000
RDATE:20260308T030000
TZOFFSETFROM:-0400
TZOFFSETTO:-0500
TZNAME:America/New_York EST
END:STANDARD
BEGIN:STANDARD
DTSTART:20261101T010000
RDATE:20270314T030000
TZOFFSETFROM:-0400
TZOFFSETTO:-0500
TZNAME:America/New_York EST
END:STANDARD
BEGIN:STANDARD
DTSTART:20271107T010000
RDATE:20280312T030000
TZOFFSETFROM:-0400
TZOFFSETTO:-0500
TZNAME:America/New_York EST
END:STANDARD
BEGIN:DAYLIGHT
DTSTART:20250501T170000
RDATE:20251102T010000
TZOFFSETFROM:-0500
TZOFFSETTO:-0400
TZNAME:America/New_York EDT
END:DAYLIGHT
BEGIN:DAYLIGHT
DTSTART:20260308T030000
RDATE:20261101T010000
TZOFFSETFROM:-0500
TZOFFSETTO:-0400
TZNAME:America/New_York EDT
END:DAYLIGHT
BEGIN:DAYLIGHT
DTSTART:20270314T030000
RDATE:20271107T010000
TZOFFSETFROM:-0500
TZOFFSETTO:-0400
TZNAME:America/New_York EDT
END:DAYLIGHT
END:VTIMEZONE
BEGIN:VEVENT
UID:99fa12df81e1c880d18755ff2a6a525e
CATEGORIES:Visit - Fraternal
CREATED:20260302T172823
SUMMARY:D23 Fraternal Visit - Franklin
LOCATION:Worcester Masonic Bldg @ 1 Ionic Avenue\, Worcester\, MA\, 01602
DESCRIPTION:DDGM received at 5:00pm\nTable Lodge, see host lodge for tickets \n
X-ALT-DESC;FMTTYPE=text/html:<p>DDGM received at 5:00pm</p><p><span style="background-color: inherit; co
 lor: inherit; font-family: inherit; font-size: 1rem; caret-color: auto;">Ta
 ble Lodge, see host lodge for tickets&nbsp;</span></p>
CONTACT:This email address is being protected from spambots. You need JavaScript enabled to view it.
DTSTAMP:20260425T155210
DTSTART;TZID=America/New_York:20260502T170000
DTEND;TZID=America/New_York:20260502T200000
SEQUENCE:0
TRANSP:OPAQUE
END:VEVENT
END:VCALENDAR