BEGIN:VCALENDAR
VERSION:2.0
PRODID:-//jEvents 2.0 for Joomla//EN
CALSCALE:GREGORIAN
METHOD:PUBLISH
BEGIN:VTIMEZONE
TZID:America/New_York
BEGIN:STANDARD
DTSTART:20250303T173000
RDATE:20250309T030000
TZOFFSETFROM:-0400
TZOFFSETTO:-0500
TZNAME:America/New_York EST
END:STANDARD
BEGIN:STANDARD
DTSTART:20251102T010000
RDATE:20260308T030000
TZOFFSETFROM:-0400
TZOFFSETTO:-0500
TZNAME:America/New_York EST
END:STANDARD
BEGIN:STANDARD
DTSTART:20261101T010000
RDATE:20270314T030000
TZOFFSETFROM:-0400
TZOFFSETTO:-0500
TZNAME:America/New_York EST
END:STANDARD
BEGIN:STANDARD
DTSTART:20271107T010000
RDATE:20280312T030000
TZOFFSETFROM:-0400
TZOFFSETTO:-0500
TZNAME:America/New_York EST
END:STANDARD
BEGIN:DAYLIGHT
DTSTART:20250309T030000
RDATE:20251102T010000
TZOFFSETFROM:-0500
TZOFFSETTO:-0400
TZNAME:America/New_York EDT
END:DAYLIGHT
BEGIN:DAYLIGHT
DTSTART:20260308T030000
RDATE:20261101T010000
TZOFFSETFROM:-0500
TZOFFSETTO:-0400
TZNAME:America/New_York EDT
END:DAYLIGHT
BEGIN:DAYLIGHT
DTSTART:20270314T030000
RDATE:20271107T010000
TZOFFSETFROM:-0500
TZOFFSETTO:-0400
TZNAME:America/New_York EDT
END:DAYLIGHT
END:VTIMEZONE
BEGIN:VEVENT
UID:5e7e8a81d925ac3a81d054f1da83c9e5
CATEGORIES:Open House
CREATED:19691231T190000
SUMMARY:OPEN HOUSE / Degree Rehearsal
LOCATION:E Bridgewater Masonic Bldg @ 38 Franklin Street\, E Bridgewater\, MA\, 0233
 3\n38 Franklin Street\nE Bridgewater\nMA\n02333\nUSA
DESCRIPTION:Puritan Lodge hosts an OPEN HOUSE every Wednesday we are not having our Mon
 thly meeting (3rd).\nWe have a light dinner and share brotherhood - usually
  followed by degree rehearsal.\n6PM dinner / 7PM rehearsal\n*** To those in
 terested in wanting to know more about Freemasonry - We hope brothers bring
  a friend.\n
X-ALT-DESC;FMTTYPE=text/html:<p>Puritan Lodge hosts an OPEN HOUSE every Wednesday we are not having our 
 Monthly meeting (3rd).</p><p>We have a light dinner and share brotherhood -
  usually followed by degree rehearsal.</p><p>6PM dinner / 7PM rehearsal</p>
 <p>*** To those interested in wanting to know more about Freemasonry - We h
 ope brothers bring a friend.</p>
DTSTAMP:20260426T034446
DTSTART;TZID=America/New_York:20260304T173000
DTEND;TZID=America/New_York:20260304T203000
SEQUENCE:0
RRULE:FREQ=WEEKLY;COUNT=16;INTERVAL=1;BYDAY=WE
EXDATE;TZID=America/New_York:20260318T173000,20260401T173000,20260415T173000,20260520T173000,20260617T17
 3000,20260429T173000
TRANSP:OPAQUE
END:VEVENT
END:VCALENDAR