BEGIN:VCALENDAR
VERSION:2.0
PRODID:-//jEvents 2.0 for Joomla//EN
CALSCALE:GREGORIAN
METHOD:PUBLISH
BEGIN:VTIMEZONE
TZID:America/New_York
BEGIN:STANDARD
DTSTART:20250228T090000
RDATE:20250309T030000
TZOFFSETFROM:-0400
TZOFFSETTO:-0500
TZNAME:America/New_York EST
END:STANDARD
BEGIN:STANDARD
DTSTART:20251102T010000
RDATE:20260308T030000
TZOFFSETFROM:-0400
TZOFFSETTO:-0500
TZNAME:America/New_York EST
END:STANDARD
BEGIN:STANDARD
DTSTART:20261101T010000
RDATE:20270314T030000
TZOFFSETFROM:-0400
TZOFFSETTO:-0500
TZNAME:America/New_York EST
END:STANDARD
BEGIN:STANDARD
DTSTART:20271107T010000
RDATE:20280312T030000
TZOFFSETFROM:-0400
TZOFFSETTO:-0500
TZNAME:America/New_York EST
END:STANDARD
BEGIN:DAYLIGHT
DTSTART:20250309T030000
RDATE:20251102T010000
TZOFFSETFROM:-0500
TZOFFSETTO:-0400
TZNAME:America/New_York EDT
END:DAYLIGHT
BEGIN:DAYLIGHT
DTSTART:20260308T030000
RDATE:20261101T010000
TZOFFSETFROM:-0500
TZOFFSETTO:-0400
TZNAME:America/New_York EDT
END:DAYLIGHT
BEGIN:DAYLIGHT
DTSTART:20270314T030000
RDATE:20271107T010000
TZOFFSETFROM:-0500
TZOFFSETTO:-0400
TZNAME:America/New_York EDT
END:DAYLIGHT
END:VTIMEZONE
BEGIN:VEVENT
UID:f049020c469472cffd3712fe62c4377f
CATEGORIES:VA Escort
CREATED:19691231T190000
SUMMARY:VA Escort Support
LOCATION:Brockton VA Medical Center @ 940 Belmont Street\, Bldg. 24\, Brockton\, MA
DESCRIPTION:<p><span>Brockton VA Medical Center | 940 Belmont St., Bldg. 24 | Brockton,
  MA 02301</span></p><p><span>&nbsp;&nbsp;&nbsp;&nbsp;&nbsp;&nbsp;&nbsp;&nbs
 p;&nbsp; Please arrive by 9:15am, finishing around 12:00pm</span><span>&nbs
 p; </span></p>
DTSTAMP:20260426T034633
DTSTART;TZID=America/New_York:20260301T090000
DTEND;TZID=America/New_York:20260301T121500
SEQUENCE:0
RRULE:FREQ=WEEKLY;COUNT=44;INTERVAL=1;BYDAY=SU
TRANSP:OPAQUE
END:VEVENT
BEGIN:VEVENT
UID:f049020c469472cffd3712fe62c4377f
CATEGORIES:VA Escort
CREATED:20260306T061354
SUMMARY:VA Escort Support
LOCATION:Brockton VA Medical Center @ 940 Belmont Street, Bldg. 24, Brockton, MA
DESCRIPTION:<p><span>Brockton VA Medical Center | 940 Belmont St., Bldg. 24 | Brockton,
  MA 02301</span></p><p><span>&nbsp;&nbsp;&nbsp;&nbsp;&nbsp;&nbsp;&nbsp;&nbs
 p;&nbsp; Please arrive by 9:15am, finishing around 12:00pm</span><span>&nbs
 p; </span></p>
URL;VALUE=URI:https://massmasons.org/calendar/all-events/eventdetail/10070/-/va-escort-su
 pport?tmpl=component

DTSTAMP:20260426T034633
DTSTART;TZID=America/New_York:20260301T090000
DTEND;TZID=America/New_York:20260301T121500
RECURRENCE-ID;TZID=America/New_York:20260301T090000
SEQUENCE:0
TRANSP:OPAQUE
END:VEVENT
BEGIN:VEVENT
UID:f049020c469472cffd3712fe62c4377f
CATEGORIES:VA Escort
CREATED:20260306T061354
SUMMARY:VA Escort Support
LOCATION:Brockton VA Medical Center @ 940 Belmont Street, Bldg. 24, Brockton, MA
DESCRIPTION:<p><span>Brockton VA Medical Center | 940 Belmont St., Bldg. 24 | Brockton,
  MA 02301</span></p><p><span>&nbsp;&nbsp;&nbsp;&nbsp;&nbsp;&nbsp;&nbsp;&nbs
 p;&nbsp; Please arrive by 9:15am, finishing around 12:00pm</span><span>&nbs
 p; </span></p>
URL;VALUE=URI:https://massmasons.org/calendar/all-events/eventdetail/10071/-/va-escort-su
 pport?tmpl=component

DTSTAMP:20260426T034633
DTSTART;TZID=America/New_York:20260308T090000
DTEND;TZID=America/New_York:20260308T121500
RECURRENCE-ID;TZID=America/New_York:20260308T090000
SEQUENCE:0
TRANSP:OPAQUE
END:VEVENT
BEGIN:VEVENT
UID:f049020c469472cffd3712fe62c4377f
CATEGORIES:VA Escort
CREATED:20260306T061354
SUMMARY:VA Escort Support
LOCATION:Brockton VA Medical Center @ 940 Belmont Street, Bldg. 24, Brockton, MA
DESCRIPTION:<p><span>Brockton VA Medical Center | 940 Belmont St., Bldg. 24 | Brockton,
  MA 02301</span></p><p><span>&nbsp;&nbsp;&nbsp;&nbsp;&nbsp;&nbsp;&nbsp;&nbs
 p;&nbsp; Please arrive by 9:15am, finishing around 12:00pm</span><span>&nbs
 p; </span></p>
URL;VALUE=URI:https://massmasons.org/calendar/all-events/eventdetail/10076/-/va-escort-su
 pport?tmpl=component

DTSTAMP:20260426T034633
DTSTART;TZID=America/New_York:20260412T090000
DTEND;TZID=America/New_York:20260412T121500
RECURRENCE-ID;TZID=America/New_York:20260412T090000
SEQUENCE:0
TRANSP:OPAQUE
END:VEVENT
BEGIN:VEVENT
UID:f049020c469472cffd3712fe62c4377f
CATEGORIES:VA Escort
CREATED:20260306T061354
SUMMARY:VA Escort Support
LOCATION:Brockton VA Medical Center @ 940 Belmont Street, Bldg. 24, Brockton, MA
DESCRIPTION:<p><span>Brockton VA Medical Center | 940 Belmont St., Bldg. 24 | Brockton,
  MA 02301</span></p><p><span>&nbsp;&nbsp;&nbsp;&nbsp;&nbsp;&nbsp;&nbsp;&nbs
 p;&nbsp; Please arrive by 9:15am, finishing around 12:00pm</span><span>&nbs
 p; </span></p>
URL;VALUE=URI:https://massmasons.org/calendar/all-events/eventdetail/10082/-/va-escort-su
 pport?tmpl=component

DTSTAMP:20260426T034633
DTSTART;TZID=America/New_York:20260524T090000
DTEND;TZID=America/New_York:20260524T121500
RECURRENCE-ID;TZID=America/New_York:20260524T090000
SEQUENCE:0
TRANSP:OPAQUE
END:VEVENT
BEGIN:VEVENT
UID:f049020c469472cffd3712fe62c4377f
CATEGORIES:VA Escort
CREATED:20260306T061354
SUMMARY:VA Escort Support
LOCATION:Brockton VA Medical Center @ 940 Belmont Street, Bldg. 24, Brockton, MA
DESCRIPTION:<p><span>Brockton VA Medical Center | 940 Belmont St., Bldg. 24 | Brockton,
  MA 02301</span></p><p><span>&nbsp;&nbsp;&nbsp;&nbsp;&nbsp;&nbsp;&nbsp;&nbs
 p;&nbsp; Please arrive by 9:15am, finishing around 12:00pm</span><span>&nbs
 p; </span></p>
URL;VALUE=URI:https://massmasons.org/calendar/all-events/eventdetail/10088/-/va-escort-su
 pport?tmpl=component

DTSTAMP:20260426T034633
DTSTART;TZID=America/New_York:20260705T090000
DTEND;TZID=America/New_York:20260705T121500
RECURRENCE-ID;TZID=America/New_York:20260705T090000
SEQUENCE:0
TRANSP:OPAQUE
END:VEVENT
BEGIN:VEVENT
UID:f049020c469472cffd3712fe62c4377f
CATEGORIES:VA Escort
CREATED:20260306T061354
SUMMARY:VA Escort Support
LOCATION:Brockton VA Medical Center @ 940 Belmont Street, Bldg. 24, Brockton, MA
DESCRIPTION:<p><span>Brockton VA Medical Center | 940 Belmont St., Bldg. 24 | Brockton,
  MA 02301</span></p><p><span>&nbsp;&nbsp;&nbsp;&nbsp;&nbsp;&nbsp;&nbsp;&nbs
 p;&nbsp; Please arrive by 9:15am, finishing around 12:00pm</span><span>&nbs
 p; </span></p>
URL;VALUE=URI:https://massmasons.org/calendar/all-events/eventdetail/10090/-/va-escort-su
 pport?tmpl=component

DTSTAMP:20260426T034633
DTSTART;TZID=America/New_York:20260719T090000
DTEND;TZID=America/New_York:20260719T121500
RECURRENCE-ID;TZID=America/New_York:20260719T090000
SEQUENCE:0
TRANSP:OPAQUE
END:VEVENT
BEGIN:VEVENT
UID:f049020c469472cffd3712fe62c4377f
CATEGORIES:VA Escort
CREATED:20260306T061354
SUMMARY:VA Escort Support
LOCATION:Brockton VA Medical Center @ 940 Belmont Street, Bldg. 24, Brockton, MA
DESCRIPTION:<p><span>Brockton VA Medical Center | 940 Belmont St., Bldg. 24 | Brockton,
  MA 02301</span></p><p><span>&nbsp;&nbsp;&nbsp;&nbsp;&nbsp;&nbsp;&nbsp;&nbs
 p;&nbsp; Please arrive by 9:15am, finishing around 12:00pm</span><span>&nbs
 p; </span></p>
URL;VALUE=URI:https://massmasons.org/calendar/all-events/eventdetail/10091/-/va-escort-su
 pport?tmpl=component

DTSTAMP:20260426T034633
DTSTART;TZID=America/New_York:20260726T090000
DTEND;TZID=America/New_York:20260726T121500
RECURRENCE-ID;TZID=America/New_York:20260726T090000
SEQUENCE:0
TRANSP:OPAQUE
END:VEVENT
BEGIN:VEVENT
UID:f049020c469472cffd3712fe62c4377f
CATEGORIES:VA Escort
CREATED:20260306T061354
SUMMARY:VA Escort Support
LOCATION:Brockton VA Medical Center @ 940 Belmont Street, Bldg. 24, Brockton, MA
DESCRIPTION:<p><span>Brockton VA Medical Center | 940 Belmont St., Bldg. 24 | Brockton,
  MA 02301</span></p><p><span>&nbsp;&nbsp;&nbsp;&nbsp;&nbsp;&nbsp;&nbsp;&nbs
 p;&nbsp; Please arrive by 9:15am, finishing around 12:00pm</span><span>&nbs
 p; </span></p>
URL;VALUE=URI:https://massmasons.org/calendar/all-events/eventdetail/10089/-/va-escort-su
 pport?tmpl=component

DTSTAMP:20260426T034633
DTSTART;TZID=America/New_York:20260712T090000
DTEND;TZID=America/New_York:20260712T121500
RECURRENCE-ID;TZID=America/New_York:20260712T090000
SEQUENCE:0
TRANSP:OPAQUE
END:VEVENT
BEGIN:VEVENT
UID:f049020c469472cffd3712fe62c4377f
CATEGORIES:VA Escort
CREATED:20260306T061354
SUMMARY:VA Escort Support
LOCATION:Brockton VA Medical Center @ 940 Belmont Street, Bldg. 24, Brockton, MA
DESCRIPTION:<p><span>Brockton VA Medical Center | 940 Belmont St., Bldg. 24 | Brockton,
  MA 02301</span></p><p><span>&nbsp;&nbsp;&nbsp;&nbsp;&nbsp;&nbsp;&nbsp;&nbs
 p;&nbsp; Please arrive by 9:15am, finishing around 12:00pm</span><span>&nbs
 p; </span></p>
URL;VALUE=URI:https://massmasons.org/calendar/all-events/eventdetail/10087/-/va-escort-su
 pport?tmpl=component

DTSTAMP:20260426T034633
DTSTART;TZID=America/New_York:20260628T090000
DTEND;TZID=America/New_York:20260628T121500
RECURRENCE-ID;TZID=America/New_York:20260628T090000
SEQUENCE:0
TRANSP:OPAQUE
END:VEVENT
BEGIN:VEVENT
UID:f049020c469472cffd3712fe62c4377f
CATEGORIES:VA Escort
CREATED:20260306T061354
SUMMARY:VA Escort Support
LOCATION:Brockton VA Medical Center @ 940 Belmont Street, Bldg. 24, Brockton, MA
DESCRIPTION:<p><span>Brockton VA Medical Center | 940 Belmont St., Bldg. 24 | Brockton,
  MA 02301</span></p><p><span>&nbsp;&nbsp;&nbsp;&nbsp;&nbsp;&nbsp;&nbsp;&nbs
 p;&nbsp; Please arrive by 9:15am, finishing around 12:00pm</span><span>&nbs
 p; </span></p>
URL;VALUE=URI:https://massmasons.org/calendar/all-events/eventdetail/10086/-/va-escort-su
 pport?tmpl=component

DTSTAMP:20260426T034633
DTSTART;TZID=America/New_York:20260621T090000
DTEND;TZID=America/New_York:20260621T121500
RECURRENCE-ID;TZID=America/New_York:20260621T090000
SEQUENCE:0
TRANSP:OPAQUE
END:VEVENT
BEGIN:VEVENT
UID:f049020c469472cffd3712fe62c4377f
CATEGORIES:VA Escort
CREATED:20260306T061354
SUMMARY:VA Escort Support
LOCATION:Brockton VA Medical Center @ 940 Belmont Street, Bldg. 24, Brockton, MA
DESCRIPTION:<p><span>Brockton VA Medical Center | 940 Belmont St., Bldg. 24 | Brockton,
  MA 02301</span></p><p><span>&nbsp;&nbsp;&nbsp;&nbsp;&nbsp;&nbsp;&nbsp;&nbs
 p;&nbsp; Please arrive by 9:15am, finishing around 12:00pm</span><span>&nbs
 p; </span></p>
URL;VALUE=URI:https://massmasons.org/calendar/all-events/eventdetail/10085/-/va-escort-su
 pport?tmpl=component

DTSTAMP:20260426T034633
DTSTART;TZID=America/New_York:20260614T090000
DTEND;TZID=America/New_York:20260614T121500
RECURRENCE-ID;TZID=America/New_York:20260614T090000
SEQUENCE:0
TRANSP:OPAQUE
END:VEVENT
BEGIN:VEVENT
UID:f049020c469472cffd3712fe62c4377f
CATEGORIES:VA Escort
CREATED:20260306T061354
SUMMARY:VA Escort Support
LOCATION:Brockton VA Medical Center @ 940 Belmont Street, Bldg. 24, Brockton, MA
DESCRIPTION:<p><span>Brockton VA Medical Center | 940 Belmont St., Bldg. 24 | Brockton,
  MA 02301</span></p><p><span>&nbsp;&nbsp;&nbsp;&nbsp;&nbsp;&nbsp;&nbsp;&nbs
 p;&nbsp; Please arrive by 9:15am, finishing around 12:00pm</span><span>&nbs
 p; </span></p>
URL;VALUE=URI:https://massmasons.org/calendar/all-events/eventdetail/10084/-/va-escort-su
 pport?tmpl=component

DTSTAMP:20260426T034633
DTSTART;TZID=America/New_York:20260607T090000
DTEND;TZID=America/New_York:20260607T121500
RECURRENCE-ID;TZID=America/New_York:20260607T090000
SEQUENCE:0
TRANSP:OPAQUE
END:VEVENT
BEGIN:VEVENT
UID:f049020c469472cffd3712fe62c4377f
CATEGORIES:VA Escort
CREATED:20260306T061354
SUMMARY:VA Escort Support
LOCATION:Brockton VA Medical Center @ 940 Belmont Street, Bldg. 24, Brockton, MA
DESCRIPTION:<p><span>Brockton VA Medical Center | 940 Belmont St., Bldg. 24 | Brockton,
  MA 02301</span></p><p><span>&nbsp;&nbsp;&nbsp;&nbsp;&nbsp;&nbsp;&nbsp;&nbs
 p;&nbsp; Please arrive by 9:15am, finishing around 12:00pm</span><span>&nbs
 p; </span></p>
URL;VALUE=URI:https://massmasons.org/calendar/all-events/eventdetail/10083/-/va-escort-su
 pport?tmpl=component

DTSTAMP:20260426T034633
DTSTART;TZID=America/New_York:20260531T090000
DTEND;TZID=America/New_York:20260531T121500
RECURRENCE-ID;TZID=America/New_York:20260531T090000
SEQUENCE:0
TRANSP:OPAQUE
END:VEVENT
BEGIN:VEVENT
UID:f049020c469472cffd3712fe62c4377f
CATEGORIES:VA Escort
CREATED:20260306T061354
SUMMARY:VA Escort Support
LOCATION:Brockton VA Medical Center @ 940 Belmont Street, Bldg. 24, Brockton, MA
DESCRIPTION:<p><span>Brockton VA Medical Center | 940 Belmont St., Bldg. 24 | Brockton,
  MA 02301</span></p><p><span>&nbsp;&nbsp;&nbsp;&nbsp;&nbsp;&nbsp;&nbsp;&nbs
 p;&nbsp; Please arrive by 9:15am, finishing around 12:00pm</span><span>&nbs
 p; </span></p>
URL;VALUE=URI:https://massmasons.org/calendar/all-events/eventdetail/10100/-/va-escort-su
 pport?tmpl=component

DTSTAMP:20260426T034633
DTSTART;TZID=America/New_York:20260927T090000
DTEND;TZID=America/New_York:20260927T121500
RECURRENCE-ID;TZID=America/New_York:20260927T090000
SEQUENCE:0
TRANSP:OPAQUE
END:VEVENT
BEGIN:VEVENT
UID:f049020c469472cffd3712fe62c4377f
CATEGORIES:VA Escort
CREATED:20260306T061354
SUMMARY:VA Escort Support
LOCATION:Brockton VA Medical Center @ 940 Belmont Street, Bldg. 24, Brockton, MA
DESCRIPTION:<p><span>Brockton VA Medical Center | 940 Belmont St., Bldg. 24 | Brockton,
  MA 02301</span></p><p><span>&nbsp;&nbsp;&nbsp;&nbsp;&nbsp;&nbsp;&nbsp;&nbs
 p;&nbsp; Please arrive by 9:15am, finishing around 12:00pm</span><span>&nbs
 p; </span></p>
URL;VALUE=URI:https://massmasons.org/calendar/all-events/eventdetail/10106/-/va-escort-su
 pport?tmpl=component

DTSTAMP:20260426T034633
DTSTART;TZID=America/New_York:20261108T090000
DTEND;TZID=America/New_York:20261108T121500
RECURRENCE-ID;TZID=America/New_York:20261108T090000
SEQUENCE:0
TRANSP:OPAQUE
END:VEVENT
BEGIN:VEVENT
UID:f049020c469472cffd3712fe62c4377f
CATEGORIES:VA Escort
CREATED:20260306T061354
SUMMARY:VA Escort Support
LOCATION:Brockton VA Medical Center @ 940 Belmont Street, Bldg. 24, Brockton, MA
DESCRIPTION:<p><span>Brockton VA Medical Center | 940 Belmont St., Bldg. 24 | Brockton,
  MA 02301</span></p><p><span>&nbsp;&nbsp;&nbsp;&nbsp;&nbsp;&nbsp;&nbsp;&nbs
 p;&nbsp; Please arrive by 9:15am, finishing around 12:00pm</span><span>&nbs
 p; </span></p>
URL;VALUE=URI:https://massmasons.org/calendar/all-events/eventdetail/10112/-/va-escort-su
 pport?tmpl=component

DTSTAMP:20260426T034633
DTSTART;TZID=America/New_York:20261220T090000
DTEND;TZID=America/New_York:20261220T121500
RECURRENCE-ID;TZID=America/New_York:20261220T090000
SEQUENCE:0
TRANSP:OPAQUE
END:VEVENT
BEGIN:VEVENT
UID:f049020c469472cffd3712fe62c4377f
CATEGORIES:VA Escort
CREATED:20260306T061354
SUMMARY:VA Escort Support
LOCATION:Brockton VA Medical Center @ 940 Belmont Street, Bldg. 24, Brockton, MA
DESCRIPTION:<p><span>Brockton VA Medical Center | 940 Belmont St., Bldg. 24 | Brockton,
  MA 02301</span></p><p><span>&nbsp;&nbsp;&nbsp;&nbsp;&nbsp;&nbsp;&nbsp;&nbs
 p;&nbsp; Please arrive by 9:15am, finishing around 12:00pm</span><span>&nbs
 p; </span></p>
URL;VALUE=URI:https://massmasons.org/calendar/all-events/eventdetail/10094/-/va-escort-su
 pport?tmpl=component

DTSTAMP:20260426T034633
DTSTART;TZID=America/New_York:20260816T090000
DTEND;TZID=America/New_York:20260816T121500
RECURRENCE-ID;TZID=America/New_York:20260816T090000
SEQUENCE:0
TRANSP:OPAQUE
END:VEVENT
END:VCALENDAR