BEGIN:VCALENDAR
VERSION:2.0
PRODID:-//jEvents 2.0 for Joomla//EN
CALSCALE:GREGORIAN
METHOD:PUBLISH
BEGIN:VTIMEZONE
TZID:America/New_York
BEGIN:STANDARD
DTSTART:20250308T183000
RDATE:20250309T030000
TZOFFSETFROM:-0400
TZOFFSETTO:-0500
TZNAME:America/New_York EST
END:STANDARD
BEGIN:STANDARD
DTSTART:20251102T010000
RDATE:20260308T030000
TZOFFSETFROM:-0400
TZOFFSETTO:-0500
TZNAME:America/New_York EST
END:STANDARD
BEGIN:STANDARD
DTSTART:20261101T010000
RDATE:20270314T030000
TZOFFSETFROM:-0400
TZOFFSETTO:-0500
TZNAME:America/New_York EST
END:STANDARD
BEGIN:STANDARD
DTSTART:20271107T010000
RDATE:20280312T030000
TZOFFSETFROM:-0400
TZOFFSETTO:-0500
TZNAME:America/New_York EST
END:STANDARD
BEGIN:DAYLIGHT
DTSTART:20250309T030000
RDATE:20251102T010000
TZOFFSETFROM:-0500
TZOFFSETTO:-0400
TZNAME:America/New_York EDT
END:DAYLIGHT
BEGIN:DAYLIGHT
DTSTART:20260308T030000
RDATE:20261101T010000
TZOFFSETFROM:-0500
TZOFFSETTO:-0400
TZNAME:America/New_York EDT
END:DAYLIGHT
BEGIN:DAYLIGHT
DTSTART:20270314T030000
RDATE:20271107T010000
TZOFFSETFROM:-0500
TZOFFSETTO:-0400
TZNAME:America/New_York EDT
END:DAYLIGHT
END:VTIMEZONE
BEGIN:VEVENT
UID:b89ebaccd0e992bb5e406ec4f717f9d8
CATEGORIES:Communication - Regular
CREATED:20260307T234145
SUMMARY:Boylston Lodge, West Boylston
LOCATION:West Boylston Masonic Bldg @ 12 Church Street\, West Boylston\, MA\, 01583
DESCRIPTION:Lodge Opens: 7:30 pm - 9:30 pm \nMeal 6:30 pm; Reservation required This em
 ail address is being protected from spambots. You need JavaScript enabled t
 o view it.\nCollation after this event \n\n\n
X-ALT-DESC;FMTTYPE=text/html:<p>Lodge Opens: 7:30 pm - 9:30 pm <br />Meal 6:30 pm; Reservation required&
 nbsp;<joomla-hidden-mail  is-link="1" is-email="0" first="cnN2cA==" last="Y
 m95bHN0b25sb2RnZS5vcmc=" text="cnN2cEBib3lsc3RvbmxvZGdlLm9yZyZuYnNwOw==" ba
 se="" >This email address is being protected from spambots. You need JavaSc
 ript enabled to view it.</joomla-hidden-mail><br />Collation after this eve
 nt <br /><br /></p>
CONTACT:23 Boylston Lodge
DTSTAMP:20260426T034444
DTSTART;TZID=America/New_York:20260309T193000
DTEND;TZID=America/New_York:20260309T213000
SEQUENCE:0
TRANSP:OPAQUE
END:VEVENT
END:VCALENDAR