BEGIN:VCALENDAR
VERSION:2.0
PRODID:-//jEvents 2.0 for Joomla//EN
CALSCALE:GREGORIAN
METHOD:PUBLISH
BEGIN:VTIMEZONE
TZID:America/New_York
BEGIN:STANDARD
DTSTART:20251102T010000
RDATE:20260308T030000
TZOFFSETFROM:-0400
TZOFFSETTO:-0500
TZNAME:America/New_York EST
END:STANDARD
BEGIN:STANDARD
DTSTART:20261101T010000
RDATE:20270314T030000
TZOFFSETFROM:-0400
TZOFFSETTO:-0500
TZNAME:America/New_York EST
END:STANDARD
BEGIN:STANDARD
DTSTART:20271107T010000
RDATE:20280312T030000
TZOFFSETFROM:-0400
TZOFFSETTO:-0500
TZNAME:America/New_York EST
END:STANDARD
BEGIN:DAYLIGHT
DTSTART:20250318T190000
RDATE:20251102T010000
TZOFFSETFROM:-0500
TZOFFSETTO:-0400
TZNAME:America/New_York EDT
END:DAYLIGHT
BEGIN:DAYLIGHT
DTSTART:20260308T030000
RDATE:20261101T010000
TZOFFSETFROM:-0500
TZOFFSETTO:-0400
TZNAME:America/New_York EDT
END:DAYLIGHT
BEGIN:DAYLIGHT
DTSTART:20270314T030000
RDATE:20271107T010000
TZOFFSETFROM:-0500
TZOFFSETTO:-0400
TZNAME:America/New_York EDT
END:DAYLIGHT
END:VTIMEZONE
BEGIN:VEVENT
UID:caebab1d2ec7dc111aebf033c16b7081
CATEGORIES:Meeting
CREATED:19691231T190000
SUMMARY:Sandra J. Marshall Assembly, No. 47 IORG
LOCATION:Worcester Masonic Bldg @ 1 Ionic Avenue\, Worcester\, MA\, 01602\n1 Ionic A
 venue\nWorcester\nMA\n01602\nUSA
DESCRIPTION:
CONTACT:sjmassembly@gmail.com
DTSTAMP:20260426T040542
DTSTART;TZID=America/New_York:20260319T190000
DTEND;TZID=America/New_York:20260319T210000
SEQUENCE:0
RRULE:FREQ=MONTHLY;COUNT=7;INTERVAL=1;BYDAY=+1TH,+3TH
TRANSP:OPAQUE
END:VEVENT
BEGIN:VEVENT
UID:caebab1d2ec7dc111aebf033c16b7081
CATEGORIES:Meeting
CREATED:20260308T154444
SUMMARY:Sandra J. Marshall Assembly, No. 47 IORG -- Initiation
LOCATION:Worcester Masonic Bldg @ 1 Ionic Avenue, Worcester, MA, 01602
DESCRIPTION:
URL;VALUE=URI:https://massmasons.org/calendar/all-events/eventdetail/10153/-/sandra-j-mar
 shall-assembly-no-47-iorg-initiation?tmpl=component
CONTACT:This email address is being protected from spambots. You need JavaScript enabled to view it.

DTSTAMP:20260426T040542
DTSTART;TZID=America/New_York:20260416T190000
DTEND;TZID=America/New_York:20260416T210000
RECURRENCE-ID;TZID=America/New_York:20260416T190000
SEQUENCE:0
TRANSP:OPAQUE
END:VEVENT
END:VCALENDAR