BEGIN:VCALENDAR
VERSION:2.0
PRODID:-//jEvents 2.0 for Joomla//EN
CALSCALE:GREGORIAN
METHOD:PUBLISH
BEGIN:VTIMEZONE
TZID:America/New_York
BEGIN:STANDARD
DTSTART:20251102T010000
RDATE:20260308T030000
TZOFFSETFROM:-0400
TZOFFSETTO:-0500
TZNAME:America/New_York EST
END:STANDARD
BEGIN:STANDARD
DTSTART:20261101T010000
RDATE:20270314T030000
TZOFFSETFROM:-0400
TZOFFSETTO:-0500
TZNAME:America/New_York EST
END:STANDARD
BEGIN:STANDARD
DTSTART:20271107T010000
RDATE:20280312T030000
TZOFFSETFROM:-0400
TZOFFSETTO:-0500
TZNAME:America/New_York EST
END:STANDARD
BEGIN:DAYLIGHT
DTSTART:20250426T184500
RDATE:20251102T010000
TZOFFSETFROM:-0500
TZOFFSETTO:-0400
TZNAME:America/New_York EDT
END:DAYLIGHT
BEGIN:DAYLIGHT
DTSTART:20260308T030000
RDATE:20261101T010000
TZOFFSETFROM:-0500
TZOFFSETTO:-0400
TZNAME:America/New_York EDT
END:DAYLIGHT
BEGIN:DAYLIGHT
DTSTART:20270314T030000
RDATE:20271107T010000
TZOFFSETFROM:-0500
TZOFFSETTO:-0400
TZNAME:America/New_York EDT
END:DAYLIGHT
END:VTIMEZONE
BEGIN:VEVENT
UID:83e306d9e20140014f8249f58061364d
CATEGORIES:Exemplification
CREATED:20260414T092842
SUMMARY:Lodge of Exemplification
LOCATION:Melrose Masonic Bldg @ 326 Main Street\, Melrose\, MA\, 02176
DESCRIPTION:<p>Lodge of Exemplification for 4th District 6:45 pm, Melrose Masonic Build
 ing, 326 Main Street, Melrose MA</p><p>COLLATION TO FOLLOW</p>
CONTACT:Call R.W. Eric L. Norton at (617) 593-4224,  Or email This email address is being protected from spambots. You need JavaScript enabled to view it.
DTSTAMP:20260425T153656
DTSTART;TZID=America/New_York:20260427T184500
DTEND;TZID=America/New_York:20260427T210000
SEQUENCE:0
TRANSP:OPAQUE
END:VEVENT
END:VCALENDAR