BEGIN:VCALENDAR
VERSION:2.0
PRODID:-//jEvents 2.0 for Joomla//EN
CALSCALE:GREGORIAN
METHOD:PUBLISH
BEGIN:VTIMEZONE
TZID:America/New_York
BEGIN:STANDARD
DTSTART:20251102T010000
RDATE:20260308T030000
TZOFFSETFROM:-0400
TZOFFSETTO:-0500
TZNAME:America/New_York EST
END:STANDARD
BEGIN:STANDARD
DTSTART:20261101T010000
RDATE:20270314T030000
TZOFFSETFROM:-0400
TZOFFSETTO:-0500
TZNAME:America/New_York EST
END:STANDARD
BEGIN:STANDARD
DTSTART:20271107T010000
RDATE:20280312T030000
TZOFFSETFROM:-0400
TZOFFSETTO:-0500
TZNAME:America/New_York EST
END:STANDARD
BEGIN:DAYLIGHT
DTSTART:20250415T190000
RDATE:20251102T010000
TZOFFSETFROM:-0500
TZOFFSETTO:-0400
TZNAME:America/New_York EDT
END:DAYLIGHT
BEGIN:DAYLIGHT
DTSTART:20260308T030000
RDATE:20261101T010000
TZOFFSETFROM:-0500
TZOFFSETTO:-0400
TZNAME:America/New_York EDT
END:DAYLIGHT
BEGIN:DAYLIGHT
DTSTART:20270314T030000
RDATE:20271107T010000
TZOFFSETFROM:-0500
TZOFFSETTO:-0400
TZNAME:America/New_York EDT
END:DAYLIGHT
END:VTIMEZONE
BEGIN:VEVENT
UID:62532e8eca6d829a6fd8d88b00c2f5d5
CATEGORIES:Exemplification
CREATED:20260414T103547
SUMMARY:29th Masonic District - Exemplification: 2nd Degree; Fellowcraft
LOCATION:Westfield Masonic Bldg @ 72 Broad Street\, Westfield\, MA\, 01085
DESCRIPTION:29th Masonic District Exemplification Our R.W. DDGM has directed me to conv
 ey unto you, that ALL Lodge Line Officers are expected to be in attendance,
  at the 29th Masonic District Exemplification, THIS Thursday, April 16, 202
 6. What: Exemplification: 2nd Degree; FellowcraftWhere: Westfield Masonic B
 uilding - Not a Public EventWhen: 4/16/26Attire: Suit &amp; Tie6pm - Collat
 ion7pm - Gavel PLEASE Arrive Before 7pm for the Exemplification!Understandi
 ng that some things are beyond the length... Communication is a Keystone of
  our Officer Responsibilities.If anyone is anyone is unable to attend, our 
 R.W. DDGM expects you to please contact him directly, and at your earliest 
 convenience, by Text, Phone Call, or Email. Respectfully, to the Wor. Maste
 rs of each Lodge, this email has gone out to all of the Lodge Line officers
  that have emails listed on Mori. Please make sure to further re-communicat
 e this information to your line officers, especially those who may not use 
 email. Thank You for your continued dedication to your Lodge, its Members, 
 and to our Craft.  "Every step toward understanding is a step toward furthe
 r light — and the path only grows brighter the more you walk it."    Most R
 espectfully Communicated and Fraternally Yours,   Brother Albert G. Giguere
  Jr.   DDGS   29th Masonic District of Massachusetts
X-ALT-DESC;FMTTYPE=text/html:<div><span style="text-decoration: underline;"><strong>29th Masonic Distric
 t Exemplification</strong></span></div><div>&nbsp;</div><div dir="auto" dat
 a-ogsc="rgb(0, 0, 0)"><span data-ogsc data-ogsb="rgb(255, 255, 255)" data-o
 lk-copy-source="MessageBody">Our R<span>.W. DDGM</span>&nbsp;has directed m
 e to convey unto you, that<span>&nbsp;</span><span>ALL Lodge Line Officers<
 /span>&nbsp;are expected to be in attendance, at the 29th Masonic District 
 Exemplification, THIS Thursday, April 16, 2026.</span></div><div dir="auto"
  data-ogsc="rgb(0, 0, 0)" data-ogsb="rgb(255, 255, 255)">&nbsp;</div><div d
 ir="auto" data-ogsc="rgb(0, 0, 0)" data-ogsb="rgb(255, 255, 255)"><strong d
 ata-ogsc>What:<span>&nbsp;</span><span>Exemplification: 2nd Degree; Fellowc
 raft</span></strong></div><div dir="auto" data-ogsc="rgb(0, 0, 0)" data-ogs
 b="rgb(255, 255, 255)"><strong data-ogsc>Where: Westfield Masonic Building 
 - Not a Public Event</strong></div><div dir="auto" data-ogsc="rgb(0, 0, 0)"
  data-ogsb="rgb(255, 255, 255)"><strong data-ogsc>When: 4/16/26</strong></d
 iv><div dir="auto" data-ogsc="rgb(0, 0, 0)" data-ogsb="rgb(255, 255, 255)">
 <strong data-ogsc>Attire: Suit &amp; Tie</strong></div><div dir="auto" data
 -ogsc="rgb(0, 0, 0)" data-ogsb="rgb(255, 255, 255)"><strong data-ogsc>6pm -
  <span>Collation</span></strong></div><div dir="auto" data-ogsc="rgb(0, 0, 
 0)" data-ogsb="rgb(255, 255, 255)"><span><strong data-ogsc>7pm - Gavel</str
 ong></span></div><div dir="auto" data-ogsc="rgb(0, 0, 0)" data-ogsb="rgb(25
 5, 255, 255)">&nbsp;</div><div dir="auto" data-ogsc="rgb(0, 0, 0)" data-ogs
 b="rgb(255, 255, 255)"><strong data-ogsc>PLEASE</strong>&nbsp;<strong data-
 ogsc><span>Arrive Before 7pm</span>&nbsp;for the Exemplification!</strong><
 /div><div dir="auto" data-ogsc="rgb(0, 0, 0)" data-ogsb="rgb(255, 255, 255)
 ">Understanding that some things are beyond the length...&nbsp;Communicatio
 n is a Keystone of our Officer Responsibilities.</div><div dir="auto" data-
 ogsc="rgb(0, 0, 0)" data-ogsb="rgb(255, 255, 255)"><strong data-ogsc>If any
 one is anyone is unable to attend, our R.W. DDGM expects you to please cont
 act him directly, and at your earliest convenience, by Text, Phone Call, or
  Email.</strong></div><div dir="auto" data-ogsc="rgb(0, 0, 0)" data-ogsb="r
 gb(255, 255, 255)">&nbsp;</div><div dir="auto" data-ogsc="rgb(0, 0, 0)" dat
 a-ogsb="rgb(255, 255, 255)">Respectfully, to the Wor. Masters of each Lodge
 , this email has gone out to all of the Lodge Line officers that have email
 s listed on Mori. Please make sure to further re-communicate this informati
 on to your line officers, especially those who may not use email.</div><div
  dir="auto" data-ogsc="rgb(0, 0, 0)" data-ogsb="rgb(255, 255, 255)">&nbsp;<
 /div><div dir="auto" data-ogsc="rgb(0, 0, 0)" data-ogsb="rgb(255, 255, 255)
 ">Thank You for your continued dedication to your Lodge, its Members, and t
 o our Craft.&nbsp;</div><div dir="auto" data-ogsc="rgb(0, 0, 0)" data-ogsb=
 "rgb(255, 255, 255)">&nbsp;"Every step toward understanding is a step towar
 d further light — and the path only grows brighter the more you walk it."</
 div><div dir="auto" data-ogsc="rgb(0, 0, 0)" data-ogsb="rgb(255, 255, 255)"
 >    </div><div dir="auto" data-ogsc="rgb(0, 0, 0)"><strong data-ogsc>Most 
 Respectfully Communicated and Fraternally Yours,</strong></div><div dir="au
 to" data-ogsc="rgb(0, 0, 0)" data-ogsb="rgb(255, 255, 255)"><strong data-og
 sc>&nbsp; &nbsp;Brother Albert G. Giguere Jr.</strong></div><div dir="auto"
  data-ogsc="rgb(0, 0, 0)" data-ogsb="rgb(255, 255, 255)"><strong data-ogsc>
 &nbsp; &nbsp;DDGS</strong></div><div dir="auto" data-ogsc="rgb(0, 0, 0)" da
 ta-ogsb="rgb(255, 255, 255)"><strong data-ogsc>&nbsp; &nbsp;29</strong><sup
  data-ogsc><strong data-ogsc>th</strong></sup><strong data-ogsc>&nbsp;Mason
 ic District of Massachusetts</strong></div><div dir="auto" data-ogsc="rgb(0
 , 0, 0)" data-ogsb="rgb(255, 255, 255)"><strong data-ogsc></strong></div>
DTSTAMP:20260425T152654
DTSTART;TZID=America/New_York:20260416T190000
SEQUENCE:0
TRANSP:OPAQUE
END:VEVENT
END:VCALENDAR