BEGIN:VCALENDAR
VERSION:2.0
PRODID:-//jEvents 2.0 for Joomla//EN
CALSCALE:GREGORIAN
METHOD:PUBLISH
BEGIN:VTIMEZONE
TZID:America/New_York
BEGIN:STANDARD
DTSTART:20251102T010000
RDATE:20260308T030000
TZOFFSETFROM:-0400
TZOFFSETTO:-0500
TZNAME:America/New_York EST
END:STANDARD
BEGIN:STANDARD
DTSTART:20261101T010000
RDATE:20270314T030000
TZOFFSETFROM:-0400
TZOFFSETTO:-0500
TZNAME:America/New_York EST
END:STANDARD
BEGIN:STANDARD
DTSTART:20271107T010000
RDATE:20280312T030000
TZOFFSETFROM:-0400
TZOFFSETTO:-0500
TZNAME:America/New_York EST
END:STANDARD
BEGIN:DAYLIGHT
DTSTART:20250501T100000
RDATE:20251102T010000
TZOFFSETFROM:-0500
TZOFFSETTO:-0400
TZNAME:America/New_York EDT
END:DAYLIGHT
BEGIN:DAYLIGHT
DTSTART:20260308T030000
RDATE:20261101T010000
TZOFFSETFROM:-0500
TZOFFSETTO:-0400
TZNAME:America/New_York EDT
END:DAYLIGHT
BEGIN:DAYLIGHT
DTSTART:20270314T030000
RDATE:20271107T010000
TZOFFSETFROM:-0500
TZOFFSETTO:-0400
TZNAME:America/New_York EDT
END:DAYLIGHT
END:VTIMEZONE
BEGIN:VEVENT
UID:5935a6938263fbda968a8ae63e9c3516
CATEGORIES:Memorial Service
CREATED:20260415T222734
SUMMARY:Boylston Lodge Masonic Funeral
DESCRIPTION:On February 22nd 2026,\n\nBro. Roger D. Wentzell\n\ndeparted to the\nCelest
 ial Lodge above.\n\nMasonic Memorial Service\n\nSaturday, May 2nd 2026\n\nP
 ine Grove Cemetery\nScar Hill Road\nBoylston MA\n\nOpen Lodge 10:00am\nDepa
 rt for Cemetery 10:30am\nJoint Memorial Service 11:00am\n\nThe joint memori
 al service will be held graveside with:\nBoylston Congregational Church\nBo
 ylston Fire Dept\nRed Knights Motorcycle Club\n\nOBITUARY (https://boylston
 lodge.us9.list-manage.com/track/click?u=9a25792b707d052a6ef0fd14a&amp;id=ad
 0d3dc779&amp;e=e303fdabe4)\n\nBoylston Lodge\nsurrounds our\ndeparted broth
 er's family\nwith our love and support\nat this difficult time.
X-ALT-DESC;FMTTYPE=text/html:<div><span><strong><span>On February 22nd&nbsp;2026,</span><br /><br /><spa
 n style="text-decoration: underline;"><span><em>Bro. Roger D. Wentzell</em>
 </span></span><br /><br /><span>departed to the<br />Celestial Lodge above.
 <br /><br /><span style="text-decoration: underline;">Masonic Memorial Serv
 ice</span><br /><br />Saturday, May 2nd 2026<br /><br />Pine Grove Cemetery
 <br />Scar Hill Road<br />Boylston MA<br /><br />Open Lodge 10:00am<br />De
 part for Cemetery 10:30am<br />Joint Memorial Service 11:00am</span><br /><
 br />The joint memorial service will be held graveside with:<br />Boylston 
 Congregational Church<br />Boylston Fire Dept<br />Red Knights Motorcycle&n
 bsp;Club<br /><br /><em><span><a href="https://boylstonlodge.us9.list-manag
 e.com/track/click?u=9a25792b707d052a6ef0fd14a&amp;id=ad0d3dc779&amp;e=e303f
 dabe4" target="_blank" rel="noopener"><span>OBITUARY</span></a></span></em>
 </strong><br /><br /><span><strong>Boylston Lodge<br />surrounds our<br />d
 eparted brother's family<br />with our love and support<br />at this diffic
 ult time.</strong></span></span></div>
CONTACT:This email address is being protected from spambots. You need JavaScript enabled to view it.
DTSTAMP:20260425T172530
DTSTART;TZID=America/New_York:20260502T100000
DTEND;TZID=America/New_York:20260502T120000
SEQUENCE:0
TRANSP:OPAQUE
END:VEVENT
END:VCALENDAR