BEGIN:VCALENDAR
VERSION:2.0
PRODID:-//jEvents 2.0 for Joomla//EN
CALSCALE:GREGORIAN
METHOD:PUBLISH
BEGIN:VTIMEZONE
TZID:America/New_York
BEGIN:STANDARD
DTSTART:20251102T010000
RDATE:20260308T030000
TZOFFSETFROM:-0400
TZOFFSETTO:-0500
TZNAME:America/New_York EST
END:STANDARD
BEGIN:STANDARD
DTSTART:20261101T010000
RDATE:20270314T030000
TZOFFSETFROM:-0400
TZOFFSETTO:-0500
TZNAME:America/New_York EST
END:STANDARD
BEGIN:STANDARD
DTSTART:20271107T010000
RDATE:20280312T030000
TZOFFSETFROM:-0400
TZOFFSETTO:-0500
TZNAME:America/New_York EST
END:STANDARD
BEGIN:DAYLIGHT
DTSTART:20251012T200000
RDATE:20251102T010000
TZOFFSETFROM:-0500
TZOFFSETTO:-0400
TZNAME:America/New_York EDT
END:DAYLIGHT
BEGIN:DAYLIGHT
DTSTART:20260308T030000
RDATE:20261101T010000
TZOFFSETFROM:-0500
TZOFFSETTO:-0400
TZNAME:America/New_York EDT
END:DAYLIGHT
BEGIN:DAYLIGHT
DTSTART:20270314T030000
RDATE:20271107T010000
TZOFFSETFROM:-0500
TZOFFSETTO:-0400
TZNAME:America/New_York EDT
END:DAYLIGHT
END:VTIMEZONE
BEGIN:VEVENT
UID:6893025bef7ccc8b040d94c8e178e7c7
CATEGORIES:Visit - Official
CREATED:20260421T115503
SUMMARY:RW William H. Amaru's Official Visit to Adams Lodge
LOCATION:Wellfleet Masonic Bldg @ Commercial and Banks Streets\, Wellfleet\, MA\, 02
 667
DESCRIPTION:
X-EXTRAINFO:Dinner at 6 PM to reservations to\nThis email address is being protected fr
 om spambots. You need JavaScript enabled to view it.\n
DTSTAMP:20260425T155012
DTSTART;TZID=America/New_York:20261013T200000
DTEND;TZID=America/New_York:20261013T213000
SEQUENCE:0
TRANSP:OPAQUE
END:VEVENT
END:VCALENDAR