BEGIN:VCALENDAR
VERSION:2.0
PRODID:-//jEvents 2.0 for Joomla//EN
CALSCALE:GREGORIAN
METHOD:PUBLISH
BEGIN:VTIMEZONE
TZID:America/New_York
BEGIN:STANDARD
DTSTART:20251102T010000
RDATE:20260308T030000
TZOFFSETFROM:-0400
TZOFFSETTO:-0500
TZNAME:America/New_York EST
END:STANDARD
BEGIN:STANDARD
DTSTART:20261101T010000
RDATE:20270314T030000
TZOFFSETFROM:-0400
TZOFFSETTO:-0500
TZNAME:America/New_York EST
END:STANDARD
BEGIN:STANDARD
DTSTART:20271107T010000
RDATE:20280312T030000
TZOFFSETFROM:-0400
TZOFFSETTO:-0500
TZNAME:America/New_York EST
END:STANDARD
BEGIN:DAYLIGHT
DTSTART:20251101T210000
RDATE:20251102T010000
TZOFFSETFROM:-0500
TZOFFSETTO:-0400
TZNAME:America/New_York EDT
END:DAYLIGHT
BEGIN:DAYLIGHT
DTSTART:20260308T030000
RDATE:20261101T010000
TZOFFSETFROM:-0500
TZOFFSETTO:-0400
TZNAME:America/New_York EDT
END:DAYLIGHT
BEGIN:DAYLIGHT
DTSTART:20270314T030000
RDATE:20271107T010000
TZOFFSETFROM:-0500
TZOFFSETTO:-0400
TZNAME:America/New_York EDT
END:DAYLIGHT
END:VTIMEZONE
BEGIN:VEVENT
UID:87f77a10ccaea9cf5ca095fdff023bc3
CATEGORIES:Visit - Official
CREATED:20260421T161231
SUMMARY:RW William H. Amaru's Official Visit To King Hiram's
LOCATION:Provincetown Masonic Bldg @ 2 Masonic Place\, Provincetown\, MA\, 02657
DESCRIPTION:<p>Social Hour at 5:30&nbsp;</p><p>Dinner 6 PM</p><p>Reservations to <jooml
 a-hidden-mail  is-link="1" is-email="1" first="S2luZ2hpcmFtc2xvZGdl" last="
 Z21haWwuY29t" text="S2luZ2hpcmFtc2xvZGdlQGdtYWlsLmNvbQ==" base="" >This ema
 il address is being protected from spambots. You need JavaScript enabled to
  view it.</joomla-hidden-mail>&nbsp;</p><p>&nbsp;</p>
CONTACT:Nathan Garran
DTSTAMP:20260425T155058
DTSTART;TZID=America/New_York:20261102T200000
DTEND;TZID=America/New_York:20261102T213000
SEQUENCE:0
TRANSP:OPAQUE
END:VEVENT
END:VCALENDAR