BEGIN:VCALENDAR
VERSION:2.0
PRODID:-//jEvents 2.0 for Joomla//EN
CALSCALE:GREGORIAN
METHOD:PUBLISH
BEGIN:VTIMEZONE
TZID:America/New_York
BEGIN:STANDARD
DTSTART:20251102T010000
RDATE:20260308T030000
TZOFFSETFROM:-0400
TZOFFSETTO:-0500
TZNAME:America/New_York EST
END:STANDARD
BEGIN:STANDARD
DTSTART:20261101T010000
RDATE:20270314T030000
TZOFFSETFROM:-0400
TZOFFSETTO:-0500
TZNAME:America/New_York EST
END:STANDARD
BEGIN:STANDARD
DTSTART:20271107T010000
RDATE:20280312T030000
TZOFFSETFROM:-0400
TZOFFSETTO:-0500
TZNAME:America/New_York EST
END:STANDARD
BEGIN:DAYLIGHT
DTSTART:20250428T180000
RDATE:20251102T010000
TZOFFSETFROM:-0500
TZOFFSETTO:-0400
TZNAME:America/New_York EDT
END:DAYLIGHT
BEGIN:DAYLIGHT
DTSTART:20260308T030000
RDATE:20261101T010000
TZOFFSETFROM:-0500
TZOFFSETTO:-0400
TZNAME:America/New_York EDT
END:DAYLIGHT
BEGIN:DAYLIGHT
DTSTART:20270314T030000
RDATE:20271107T010000
TZOFFSETFROM:-0500
TZOFFSETTO:-0400
TZNAME:America/New_York EDT
END:DAYLIGHT
END:VTIMEZONE
BEGIN:VEVENT
UID:27512168e581958e7a1fc982a839086b
CATEGORIES:Degree - FC
CREATED:20260423T143108
SUMMARY:Puritan Lodge, 2nd Degree
LOCATION:East Bridgewater Masonic Bldg @ 38 Franklin Street\, East Bridgewater\, MA\
 , 02333
DESCRIPTION:Puritan Lodge is hosting a 2nd Degree on Wed. April 29th.\nDinner at 6:15PM
 \nLodge to be Opened at 7:15PM\nDegree Work at 7:40PM\nCollation will follo
 w in the Dinning Hall.\n
X-ALT-DESC;FMTTYPE=text/html:<p>Puritan Lodge is hosting a 2nd Degree on Wed. April 29th.</p><p>Dinner a
 t 6:15PM</p><p>Lodge to be Opened at 7:15PM</p><p>Degree Work at 7:40PM</p>
 <p>Collation will follow in the Dinning Hall.</p>
DTSTAMP:20260425T152654
DTSTART;TZID=America/New_York:20260429T180000
DTEND;TZID=America/New_York:20260429T210000
SEQUENCE:0
TRANSP:OPAQUE
END:VEVENT
END:VCALENDAR