BEGIN:VCALENDAR
VERSION:2.0
PRODID:-//jEvents 2.0 for Joomla//EN
CALSCALE:GREGORIAN
METHOD:PUBLISH
BEGIN:VTIMEZONE
TZID:America/New_York
BEGIN:STANDARD
DTSTART:20251102T010000
RDATE:20260308T030000
TZOFFSETFROM:-0400
TZOFFSETTO:-0500
TZNAME:America/New_York EST
END:STANDARD
BEGIN:STANDARD
DTSTART:20261101T010000
RDATE:20270314T030000
TZOFFSETFROM:-0400
TZOFFSETTO:-0500
TZNAME:America/New_York EST
END:STANDARD
BEGIN:STANDARD
DTSTART:20271107T010000
RDATE:20280312T030000
TZOFFSETFROM:-0400
TZOFFSETTO:-0500
TZNAME:America/New_York EST
END:STANDARD
BEGIN:DAYLIGHT
DTSTART:20250516T113000
RDATE:20251102T010000
TZOFFSETFROM:-0500
TZOFFSETTO:-0400
TZNAME:America/New_York EDT
END:DAYLIGHT
BEGIN:DAYLIGHT
DTSTART:20260308T030000
RDATE:20261101T010000
TZOFFSETFROM:-0500
TZOFFSETTO:-0400
TZNAME:America/New_York EDT
END:DAYLIGHT
BEGIN:DAYLIGHT
DTSTART:20270314T030000
RDATE:20271107T010000
TZOFFSETFROM:-0500
TZOFFSETTO:-0400
TZNAME:America/New_York EDT
END:DAYLIGHT
END:VTIMEZONE
BEGIN:VEVENT
UID:976437151be7d6be4d916285e1a1870c
CATEGORIES:Public Event
CREATED:20260423T144057
SUMMARY:Puritan Lodge - FISH FRY
LOCATION:E Bridgewater Masonic Bldg @ 38 Franklin Street\, E Bridgewater\, MA\, 0233
 3
DESCRIPTION:Puritan Lodge is hosting a FISH FRY.\n11:30A - 2P       $ 19 pp\nChoice of 
 Fish, Shrimp or Chicken\nwith: French Fries, Clam Chowder, Coleslaw &amp; b
 everage\n
X-ALT-DESC;FMTTYPE=text/html:<p>Puritan Lodge is hosting a FISH FRY.</p><p>11:30A - 2P&nbsp; &nbsp; &nbs
 p; &nbsp;$ 19 pp</p><p>Choice of Fish, Shrimp or Chicken</p><p>with: French
  Fries, Clam Chowder, Coleslaw &amp; beverage</p>
CONTACT:Wor. Gordon R. Andrews (617) 686-1933
DTSTAMP:20260425T172529
DTSTART;TZID=America/New_York:20260517T113000
DTEND;TZID=America/New_York:20260517T140000
SEQUENCE:0
TRANSP:OPAQUE
END:VEVENT
END:VCALENDAR