BEGIN:VCALENDAR
VERSION:2.0
PRODID:-//jEvents 2.0 for Joomla//EN
CALSCALE:GREGORIAN
METHOD:PUBLISH
BEGIN:VTIMEZONE
TZID:America/New_York
BEGIN:STANDARD
DTSTART:20251102T010000
RDATE:20260308T030000
TZOFFSETFROM:-0400
TZOFFSETTO:-0500
TZNAME:America/New_York EST
END:STANDARD
BEGIN:STANDARD
DTSTART:20261101T010000
RDATE:20270314T030000
TZOFFSETFROM:-0400
TZOFFSETTO:-0500
TZNAME:America/New_York EST
END:STANDARD
BEGIN:STANDARD
DTSTART:20271107T010000
RDATE:20280312T030000
TZOFFSETFROM:-0400
TZOFFSETTO:-0500
TZNAME:America/New_York EST
END:STANDARD
BEGIN:DAYLIGHT
DTSTART:20250315T180000
RDATE:20251102T010000
TZOFFSETFROM:-0500
TZOFFSETTO:-0400
TZNAME:America/New_York EDT
END:DAYLIGHT
BEGIN:DAYLIGHT
DTSTART:20260308T030000
RDATE:20261101T010000
TZOFFSETFROM:-0500
TZOFFSETTO:-0400
TZNAME:America/New_York EDT
END:DAYLIGHT
BEGIN:DAYLIGHT
DTSTART:20270314T030000
RDATE:20271107T010000
TZOFFSETFROM:-0500
TZOFFSETTO:-0400
TZNAME:America/New_York EDT
END:DAYLIGHT
END:VTIMEZONE
BEGIN:VEVENT
UID:MMcal_62944
CATEGORIES:Communication - Regular, Degree - MM
CREATED:20250116T192924
SUMMARY:Fraternal Lodge 3rd Degree on 3 in Centerville
LOCATION:Centerville Masonic Bldg @ 1987 Falmouth Road\, Centerville\, MA\, 02632
DESCRIPTION:<p>Worshipful John Lacer will raise 3 Brothers to the Sublime Degree of Mas
 ter Mason.&nbsp;</p><p>6:00PM Special Meeting - Monday, Mar. 16th,<br />Ope
 ning on the 3rd Degree (in form) for raising three Fellowcrafts to be a Mas
 ter Mason.</p><p>Dinner at 7:30PM. Contact Bro. Jefferson De-<br />Paula fo
 r reservations. 774-552-9352</p>
CONTACT:20 Fraternal Lodge
DTSTAMP:20260426T040743
DTSTART;TZID=America/New_York:20260316T180000
SEQUENCE:0
TRANSP:OPAQUE
END:VEVENT
END:VCALENDAR