BEGIN:VCALENDAR
VERSION:2.0
PRODID:-//jEvents 2.0 for Joomla//EN
CALSCALE:GREGORIAN
METHOD:PUBLISH
BEGIN:VTIMEZONE
TZID:America/New_York
BEGIN:STANDARD
DTSTART:20251102T010000
RDATE:20260308T030000
TZOFFSETFROM:-0400
TZOFFSETTO:-0500
TZNAME:America/New_York EST
END:STANDARD
BEGIN:STANDARD
DTSTART:20261101T010000
RDATE:20270314T030000
TZOFFSETFROM:-0400
TZOFFSETTO:-0500
TZNAME:America/New_York EST
END:STANDARD
BEGIN:STANDARD
DTSTART:20271107T010000
RDATE:20280312T030000
TZOFFSETFROM:-0400
TZOFFSETTO:-0500
TZNAME:America/New_York EST
END:STANDARD
BEGIN:DAYLIGHT
DTSTART:20250328T190000
RDATE:20251102T010000
TZOFFSETFROM:-0500
TZOFFSETTO:-0400
TZNAME:America/New_York EDT
END:DAYLIGHT
BEGIN:DAYLIGHT
DTSTART:20260308T030000
RDATE:20261101T010000
TZOFFSETFROM:-0500
TZOFFSETTO:-0400
TZNAME:America/New_York EDT
END:DAYLIGHT
BEGIN:DAYLIGHT
DTSTART:20270314T030000
RDATE:20271107T010000
TZOFFSETFROM:-0500
TZOFFSETTO:-0400
TZNAME:America/New_York EDT
END:DAYLIGHT
END:VTIMEZONE
BEGIN:VEVENT
UID:MMcal_72644
CATEGORIES:Meeting, zz Anchor
CREATED:20250116T192945
SUMMARY:Valley of Boston, Meeting, Boston
LOCATION:Boston Masonic Bldg @ 186 Tremont Street\, Boston\, MA\, 02111
DESCRIPTION:Meeting - at Boston <br />Valley of Boston <br />Feast of The Pascal Lamb <
 br />(not a public event) <br />(start time not confirmed) <br />MM-1K1W MT
 G srvbo
CONTACT:71 *Valley of Boston; https://www.scottishriteboston.net/ (https://www.scottishriteboston.net/)
DTSTAMP:20260426T011149
DTSTART;TZID=America/New_York:20260329T190000
SEQUENCE:0
TRANSP:OPAQUE
END:VEVENT
END:VCALENDAR