BEGIN:VCALENDAR
VERSION:2.0
PRODID:-//jEvents 2.0 for Joomla//EN
CALSCALE:GREGORIAN
METHOD:PUBLISH
BEGIN:VTIMEZONE
TZID:America/New_York
BEGIN:STANDARD
DTSTART:20250211T070000
RDATE:20250309T030000
TZOFFSETFROM:-0400
TZOFFSETTO:-0500
TZNAME:America/New_York EST
END:STANDARD
BEGIN:STANDARD
DTSTART:20251102T010000
RDATE:20260308T030000
TZOFFSETFROM:-0400
TZOFFSETTO:-0500
TZNAME:America/New_York EST
END:STANDARD
BEGIN:STANDARD
DTSTART:20261101T010000
RDATE:20270314T030000
TZOFFSETFROM:-0400
TZOFFSETTO:-0500
TZNAME:America/New_York EST
END:STANDARD
BEGIN:STANDARD
DTSTART:20271107T010000
RDATE:20280312T030000
TZOFFSETFROM:-0400
TZOFFSETTO:-0500
TZNAME:America/New_York EST
END:STANDARD
BEGIN:DAYLIGHT
DTSTART:20250309T030000
RDATE:20251102T010000
TZOFFSETFROM:-0500
TZOFFSETTO:-0400
TZNAME:America/New_York EDT
END:DAYLIGHT
BEGIN:DAYLIGHT
DTSTART:20260308T030000
RDATE:20261101T010000
TZOFFSETFROM:-0500
TZOFFSETTO:-0400
TZNAME:America/New_York EDT
END:DAYLIGHT
BEGIN:DAYLIGHT
DTSTART:20270314T030000
RDATE:20271107T010000
TZOFFSETFROM:-0500
TZOFFSETTO:-0400
TZNAME:America/New_York EDT
END:DAYLIGHT
END:VTIMEZONE
BEGIN:VEVENT
UID:MMcal_72742
CATEGORIES:Public Event
CREATED:20250116T192945
SUMMARY:USA 250th Anniversary, Public Event, Boston
LOCATION:Boston Masonic Bldg @ 186 Tremont Street\, Boston\, MA\, 02111
DESCRIPTION:Public Event - at Boston \nUSA 250th Anniversary \nHenry Knox Noble Train @
  the Statehouse \nCall: RW Bryan Simmons 508-431-7018 This email address is
  being protected from spambots. You need JavaScript enabled to view it.  \n
 (not a public event) \n(start time not confirmed) \nMM-1K4M PUBL usa250
X-ALT-DESC;FMTTYPE=text/html:Public Event - at Boston <br />USA 250th Anniversary <br />Henry Knox Noble
  Train @ the Statehouse <br />Call: RW Bryan Simmons 508-431-7018 <joomla-h
 idden-mail  is-link="1" is-email="1" first="YnJ5YW5zMzU3OQ==" last="Z21haWw
 uY29t" text="YnJ5YW5zMzU3OUBnbWFpbC5jb20=" base="" >This email address is b
 eing protected from spambots. You need JavaScript enabled to view it.</joom
 la-hidden-mail>  <br />(not a public event) <br />(start time not confirmed
 ) <br />MM-1K4M PUBL usa250
CONTACT:00 USA 250th Anniversary
DTSTAMP:20260426T044404
DTSTART;TZID=America/New_York:20260212T070000
SEQUENCE:0
TRANSP:OPAQUE
END:VEVENT
END:VCALENDAR