BEGIN:VCALENDAR
VERSION:2.0
PRODID:-//jEvents 2.0 for Joomla//EN
CALSCALE:GREGORIAN
METHOD:PUBLISH
BEGIN:VTIMEZONE
TZID:America/New_York
BEGIN:STANDARD
DTSTART:20251102T010000
RDATE:20260308T030000
TZOFFSETFROM:-0400
TZOFFSETTO:-0500
TZNAME:America/New_York EST
END:STANDARD
BEGIN:STANDARD
DTSTART:20261101T010000
RDATE:20270314T030000
TZOFFSETFROM:-0400
TZOFFSETTO:-0500
TZNAME:America/New_York EST
END:STANDARD
BEGIN:STANDARD
DTSTART:20271107T010000
RDATE:20280312T030000
TZOFFSETFROM:-0400
TZOFFSETTO:-0500
TZNAME:America/New_York EST
END:STANDARD
BEGIN:DAYLIGHT
DTSTART:20250921T181500
RDATE:20251102T010000
TZOFFSETFROM:-0500
TZOFFSETTO:-0400
TZNAME:America/New_York EDT
END:DAYLIGHT
BEGIN:DAYLIGHT
DTSTART:20260308T030000
RDATE:20261101T010000
TZOFFSETFROM:-0500
TZOFFSETTO:-0400
TZNAME:America/New_York EDT
END:DAYLIGHT
BEGIN:DAYLIGHT
DTSTART:20270314T030000
RDATE:20271107T010000
TZOFFSETFROM:-0500
TZOFFSETTO:-0400
TZNAME:America/New_York EDT
END:DAYLIGHT
END:VTIMEZONE
BEGIN:VEVENT
UID:67e602d1080766cac32b502503c6c6f1
CATEGORIES:Lodge of Instruction
CREATED:20250804T223403
SUMMARY:23rd Lodge of Instruction
LOCATION:West Boylston Masonic Bldg @ 12 Church Street\, West Boylston\, MA\, 01583
DESCRIPTION:<ul><li>Candidates and Instructors Arrive: 6:15pm</li><li>Candidate Instruc
 tion Starts: 6:30pm</li><li>LOI Opens : 7:00pm</li><li>LOI Closes: 8:30pm</
 li></ul>
CONTACT:LOI Master: Wor. Robert Taupier
DTSTAMP:20260426T014509
DTSTART;TZID=America/New_York:20260922T181500
DTEND;TZID=America/New_York:20260922T203000
SEQUENCE:0
TRANSP:OPAQUE
END:VEVENT
END:VCALENDAR