BEGIN:VCALENDAR
VERSION:2.0
PRODID:-//jEvents 2.0 for Joomla//EN
CALSCALE:GREGORIAN
METHOD:PUBLISH
BEGIN:VTIMEZONE
TZID:America/New_York
BEGIN:STANDARD
DTSTART:20251202T200000
RDATE:20260308T030000
TZOFFSETFROM:-0400
TZOFFSETTO:-0500
TZNAME:America/New_York EST
END:STANDARD
BEGIN:STANDARD
DTSTART:20261101T010000
RDATE:20270314T030000
TZOFFSETFROM:-0400
TZOFFSETTO:-0500
TZNAME:America/New_York EST
END:STANDARD
BEGIN:STANDARD
DTSTART:20271107T010000
RDATE:20280312T030000
TZOFFSETFROM:-0400
TZOFFSETTO:-0500
TZNAME:America/New_York EST
END:STANDARD
BEGIN:DAYLIGHT
DTSTART:20260308T030000
RDATE:20261101T010000
TZOFFSETFROM:-0500
TZOFFSETTO:-0400
TZNAME:America/New_York EDT
END:DAYLIGHT
BEGIN:DAYLIGHT
DTSTART:20270314T030000
RDATE:20271107T010000
TZOFFSETFROM:-0500
TZOFFSETTO:-0400
TZNAME:America/New_York EDT
END:DAYLIGHT
END:VTIMEZONE
BEGIN:VEVENT
UID:0ca4f90a3c3ef25c64df6521134e12e8
CATEGORIES:Visit - Last Official
CREATED:20251224T111421
SUMMARY:Phoenix lodge
LOCATION:Hanover Masonic Bldg @ Broadway and Washington Street\, Hanover\, MA\, 0233
 9
DESCRIPTION:Official Visit to Phoenix Lodge. Last Official\n
X-ALT-DESC;FMTTYPE=text/html:<p>Official Visit to Phoenix Lodge. Last Official</p>
DTSTAMP:20260425T155144
DTSTART;TZID=America/New_York:20261203T200000
DTEND;TZID=America/New_York:20261203T210000
SEQUENCE:0
TRANSP:OPAQUE
END:VEVENT
END:VCALENDAR