BEGIN:VCALENDAR
VERSION:2.0
PRODID:-//jEvents 2.0 for Joomla//EN
CALSCALE:GREGORIAN
METHOD:PUBLISH
BEGIN:VTIMEZONE
TZID:America/New_York
BEGIN:STANDARD
DTSTART:20251102T010000
RDATE:20260308T030000
TZOFFSETFROM:-0400
TZOFFSETTO:-0500
TZNAME:America/New_York EST
END:STANDARD
BEGIN:STANDARD
DTSTART:20261101T010000
RDATE:20270314T030000
TZOFFSETFROM:-0400
TZOFFSETTO:-0500
TZNAME:America/New_York EST
END:STANDARD
BEGIN:STANDARD
DTSTART:20271107T010000
RDATE:20280312T030000
TZOFFSETFROM:-0400
TZOFFSETTO:-0500
TZNAME:America/New_York EST
END:STANDARD
BEGIN:DAYLIGHT
DTSTART:20250325T180000
RDATE:20251102T010000
TZOFFSETFROM:-0500
TZOFFSETTO:-0400
TZNAME:America/New_York EDT
END:DAYLIGHT
BEGIN:DAYLIGHT
DTSTART:20260308T030000
RDATE:20261101T010000
TZOFFSETFROM:-0500
TZOFFSETTO:-0400
TZNAME:America/New_York EDT
END:DAYLIGHT
BEGIN:DAYLIGHT
DTSTART:20270314T030000
RDATE:20271107T010000
TZOFFSETFROM:-0500
TZOFFSETTO:-0400
TZNAME:America/New_York EDT
END:DAYLIGHT
END:VTIMEZONE
BEGIN:VEVENT
UID:f4a10c8d612f15ad1a47a8e308b7e7d5
CATEGORIES:Lodge of Instruction
CREATED:20251224T134159
SUMMARY:24th District Lodge of Instruction(LOI)
LOCATION:Webster Masonic Bldg @ 25 Brandes Street\, Webster\, MA\, 01570
DESCRIPTION:<p>On Thursday, March 26, 2026 the 24th District Lodge of Instruction will 
 be held at MG Salem Towne Lodge at the Webster Masonic Building. The speake
 rs for the evening are the Boy Scouts of Amercia. Scouters Lodge - R.W. Jay
  Armand Jolicoeur.</p><p>Dinner is at 6:00 PM...candidate instruction at 6:
 35 PM. Lodge opens for attendance and announcements at 7:00 PM. Speaker - 7
 :15</p><p>Reservations for dinner are required. Wor. Bill Belanger - 508-76
 9-4901 - <joomla-hidden-mail  is-link="1" is-email="1" first="YmVsYW5nZXJid
 WxsYXJk" last="eWFob28uY29t" text="YmVsYW5nZXJidWxsYXJkQHlhaG9vLmNvbQ==" ba
 se="" >This email address is being protected from spambots. You need JavaSc
 ript enabled to view it.</joomla-hidden-mail></p>
CONTACT:Wor. Bill Belanger(LOI Master)
X-EXTRAINFO:508-769-4901
DTSTAMP:20260426T023928
DTSTART;TZID=America/New_York:20260326T180000
DTEND;TZID=America/New_York:20260326T210000
SEQUENCE:0
TRANSP:OPAQUE
END:VEVENT
END:VCALENDAR