BEGIN:VCALENDAR
VERSION:2.0
PRODID:-//jEvents 2.0 for Joomla//EN
CALSCALE:GREGORIAN
METHOD:PUBLISH
BEGIN:VTIMEZONE
TZID:America/New_York
BEGIN:STANDARD
DTSTART:20251102T010000
RDATE:20260308T030000
TZOFFSETFROM:-0400
TZOFFSETTO:-0500
TZNAME:America/New_York EST
END:STANDARD
BEGIN:STANDARD
DTSTART:20261101T010000
RDATE:20270314T030000
TZOFFSETFROM:-0400
TZOFFSETTO:-0500
TZNAME:America/New_York EST
END:STANDARD
BEGIN:STANDARD
DTSTART:20271107T010000
RDATE:20280312T030000
TZOFFSETFROM:-0400
TZOFFSETTO:-0500
TZNAME:America/New_York EST
END:STANDARD
BEGIN:DAYLIGHT
DTSTART:20250422T180000
RDATE:20251102T010000
TZOFFSETFROM:-0500
TZOFFSETTO:-0400
TZNAME:America/New_York EDT
END:DAYLIGHT
BEGIN:DAYLIGHT
DTSTART:20260308T030000
RDATE:20261101T010000
TZOFFSETFROM:-0500
TZOFFSETTO:-0400
TZNAME:America/New_York EDT
END:DAYLIGHT
BEGIN:DAYLIGHT
DTSTART:20270314T030000
RDATE:20271107T010000
TZOFFSETFROM:-0500
TZOFFSETTO:-0400
TZNAME:America/New_York EDT
END:DAYLIGHT
END:VTIMEZONE
BEGIN:VEVENT
UID:bad687717e710cd75f46aef3fa6b2ccc
CATEGORIES:Lodge of Instruction
CREATED:20251224T142917
SUMMARY:24th District Lodge of Instruction(LOI)
LOCATION:Oxford Masonic Bldg @ 22 Mt Pleasant Street\, Oxford\, MA\, 01540
DESCRIPTION:On Thursday, April 23, 2026 the 24th District Lodge of Instruction will be 
 held at Oxford Lodge in Oxford. The speakers for the evening are The Rainbo
 w Girls . Topic: Fun Degree\nDinner is at 6:00 PM...candidate instriuction 
 at 6:35 PM. Lodge opens for attendance and announcements at 7:00 PM. Speake
 r - 7:15\nReservations for dinner are required. Wor. Bill Belanger - 508-76
 9-4901 - This email address is being protected from spambots. You need Java
 Script enabled to view it.\n
X-ALT-DESC;FMTTYPE=text/html:<p>On Thursday, April 23, 2026 the 24th District Lodge of Instruction will 
 be held at Oxford Lodge in Oxford. The speakers for the evening are The Rai
 nbow Girls . Topic: Fun Degree</p><p>Dinner is at 6:00 PM...candidate instr
 iuction at 6:35 PM. Lodge opens for attendance and announcements at 7:00 PM
 . Speaker - 7:15</p><p>Reservations for dinner are required. Wor. Bill Bela
 nger - 508-769-4901 - <joomla-hidden-mail  is-link="1" is-email="1" first="
 YmVsYW5nZXJidWxsYXJk" last="eWFob28uY29t" text="YmVsYW5nZXJidWxsYXJkQHlhaG9
 vLmNvbQ==" base="" >This email address is being protected from spambots. Yo
 u need JavaScript enabled to view it.</joomla-hidden-mail></p>
CONTACT:Wor. Bill Belanger(LOI Master)
X-EXTRAINFO:508-769-4901\n
DTSTAMP:20260426T005525
DTSTART;TZID=America/New_York:20260423T180000
DTEND;TZID=America/New_York:20260423T210000
SEQUENCE:0
TRANSP:OPAQUE
END:VEVENT
END:VCALENDAR