BEGIN:VCALENDAR
VERSION:2.0
PRODID:-//jEvents 2.0 for Joomla//EN
CALSCALE:GREGORIAN
METHOD:PUBLISH
BEGIN:VTIMEZONE
TZID:America/New_York
BEGIN:STANDARD
DTSTART:20251102T010000
RDATE:20260308T030000
TZOFFSETFROM:-0400
TZOFFSETTO:-0500
TZNAME:America/New_York EST
END:STANDARD
BEGIN:STANDARD
DTSTART:20261101T010000
RDATE:20270314T030000
TZOFFSETFROM:-0400
TZOFFSETTO:-0500
TZNAME:America/New_York EST
END:STANDARD
BEGIN:STANDARD
DTSTART:20271107T010000
RDATE:20280312T030000
TZOFFSETFROM:-0400
TZOFFSETTO:-0500
TZNAME:America/New_York EST
END:STANDARD
BEGIN:DAYLIGHT
DTSTART:20250527T180000
RDATE:20251102T010000
TZOFFSETFROM:-0500
TZOFFSETTO:-0400
TZNAME:America/New_York EDT
END:DAYLIGHT
BEGIN:DAYLIGHT
DTSTART:20260308T030000
RDATE:20261101T010000
TZOFFSETFROM:-0500
TZOFFSETTO:-0400
TZNAME:America/New_York EDT
END:DAYLIGHT
BEGIN:DAYLIGHT
DTSTART:20270314T030000
RDATE:20271107T010000
TZOFFSETFROM:-0500
TZOFFSETTO:-0400
TZNAME:America/New_York EDT
END:DAYLIGHT
END:VTIMEZONE
BEGIN:VEVENT
UID:1ee79744403d70c73613dfabeb49c824
CATEGORIES:Lodge of Instruction
CREATED:20251224T143542
SUMMARY:24th District Lodge of Instruction(LOI)
LOCATION:Douglas Masonic Bldg @ 7 Depot Street\, Douglas\, MA\, 01516
DESCRIPTION:<p>On Thursday, May 28, 2026 the 24th District Lodge of Instruction will be
  held at Olive Branch Lodge in Douglas. The speaker for the evening is Wor.
  Christopher A. Ives . Topic: The Morgan Affair</p><p>Dinner is at 6:00 PM.
 ..candidate instriuction at 6:35 PM. Lodge opens for attendance and announc
 ements at 7:00 PM. Speaker - 7:15</p><p>Reservations for dinner are require
 d. Wor. Bill Belanger - 508-769-4901 - <joomla-hidden-mail  is-link="1" is-
 email="1" first="YmVsYW5nZXJidWxsYXJk" last="eWFob28uY29t" text="YmVsYW5nZX
 JidWxsYXJkQHlhaG9vLmNvbQ==" base="" >This email address is being protected 
 from spambots. You need JavaScript enabled to view it.</joomla-hidden-mail>
 <joomla-hidden-mail is-link="1" is-email="1" first="YmVsYW5nZXJidWxsYXJk" l
 ast="eWFob28uY29t" text="YmVsYW5nZXJidWxsYXJkQHlhaG9vLmNvbQ==" base=""></jo
 omla-hidden-mail></p><p>&nbsp;</p>
CONTACT:Wor. Bill Belanger
X-EXTRAINFO:508-769-4901
DTSTAMP:20260425T204723
DTSTART;TZID=America/New_York:20260528T180000
DTEND;TZID=America/New_York:20260528T210000
SEQUENCE:0
TRANSP:OPAQUE
END:VEVENT
END:VCALENDAR