BEGIN:VCALENDAR
VERSION:2.0
PRODID:-//jEvents 2.0 for Joomla//EN
CALSCALE:GREGORIAN
METHOD:PUBLISH
BEGIN:VTIMEZONE
TZID:America/New_York
BEGIN:STANDARD
DTSTART:20251102T010000
RDATE:20260308T030000
TZOFFSETFROM:-0400
TZOFFSETTO:-0500
TZNAME:America/New_York EST
END:STANDARD
BEGIN:STANDARD
DTSTART:20261101T010000
RDATE:20270314T030000
TZOFFSETFROM:-0400
TZOFFSETTO:-0500
TZNAME:America/New_York EST
END:STANDARD
BEGIN:STANDARD
DTSTART:20271107T010000
RDATE:20280312T030000
TZOFFSETFROM:-0400
TZOFFSETTO:-0500
TZNAME:America/New_York EST
END:STANDARD
BEGIN:DAYLIGHT
DTSTART:20250601T200000
RDATE:20251102T010000
TZOFFSETFROM:-0500
TZOFFSETTO:-0400
TZNAME:America/New_York EDT
END:DAYLIGHT
BEGIN:DAYLIGHT
DTSTART:20260308T030000
RDATE:20261101T010000
TZOFFSETFROM:-0500
TZOFFSETTO:-0400
TZNAME:America/New_York EDT
END:DAYLIGHT
BEGIN:DAYLIGHT
DTSTART:20270314T030000
RDATE:20271107T010000
TZOFFSETFROM:-0500
TZOFFSETTO:-0400
TZNAME:America/New_York EDT
END:DAYLIGHT
END:VTIMEZONE
BEGIN:VEVENT
UID:fd3d908f5c4ac60b22f56e2bd2d40c4f
CATEGORIES:Visit - Fraternal
CREATED:20260102T131341
SUMMARY:D23 Fraternal Visit - Morning Star
LOCATION:Worcester Masonic Bldg @ 1 Ionic Avenue\, Worcester\, MA\, 01602
DESCRIPTION:DDGM received at 8:00pm\nCheck with lodge for dinner details\n
X-ALT-DESC;FMTTYPE=text/html:<p>DDGM received at 8:00pm</p><p>Check with lodge for dinner details</p>
CONTACT:This email address is being protected from spambots. You need JavaScript enabled to view it.
DTSTAMP:20260425T155210
DTSTART;TZID=America/New_York:20260602T200000
DTEND;TZID=America/New_York:20260602T210000
SEQUENCE:0
TRANSP:OPAQUE
END:VEVENT
END:VCALENDAR