BEGIN:VCALENDAR
VERSION:2.0
PRODID:-//jEvents 2.0 for Joomla//EN
CALSCALE:GREGORIAN
METHOD:PUBLISH
BEGIN:VTIMEZONE
TZID:America/New_York
BEGIN:STANDARD
DTSTART:20251102T010000
RDATE:20260308T030000
TZOFFSETFROM:-0400
TZOFFSETTO:-0500
TZNAME:America/New_York EST
END:STANDARD
BEGIN:STANDARD
DTSTART:20261101T010000
RDATE:20270314T030000
TZOFFSETFROM:-0400
TZOFFSETTO:-0500
TZNAME:America/New_York EST
END:STANDARD
BEGIN:STANDARD
DTSTART:20271107T010000
RDATE:20280312T030000
TZOFFSETFROM:-0400
TZOFFSETTO:-0500
TZNAME:America/New_York EST
END:STANDARD
BEGIN:DAYLIGHT
DTSTART:20250403T080000
RDATE:20251102T010000
TZOFFSETFROM:-0500
TZOFFSETTO:-0400
TZNAME:America/New_York EDT
END:DAYLIGHT
BEGIN:DAYLIGHT
DTSTART:20260308T030000
RDATE:20261101T010000
TZOFFSETFROM:-0500
TZOFFSETTO:-0400
TZNAME:America/New_York EDT
END:DAYLIGHT
BEGIN:DAYLIGHT
DTSTART:20270314T030000
RDATE:20271107T010000
TZOFFSETFROM:-0500
TZOFFSETTO:-0400
TZNAME:America/New_York EDT
END:DAYLIGHT
END:VTIMEZONE
BEGIN:VEVENT
UID:e4a309f8313dbcf9ae4e0489ca6351fcRR9952
CATEGORIES:Blood Drive
CREATED:19691231T190000
SUMMARY:Blood Drive
LOCATION:Holliston Masonic Bldg @ 657 Washington Street\, Holliston\, MA\, 01746\n65
 7 Washington Street\nHolliston\nMA\n01746\nUSA
DESCRIPTION:<p>The Kraft Family Blood Donor Center presents:</p><p>Blood Drive at Mount
  Hollis Lodge</p><p>8am - 2:30pm&nbsp;</p><p>Rear Parking lot</p>
DTSTAMP:20260425T203219
DTSTART;TZID=America/New_York:20260404T080000
DTEND;TZID=America/New_York:20260404T143000
SEQUENCE:0
TRANSP:OPAQUE
END:VEVENT
END:VCALENDAR