BEGIN:VCALENDAR
VERSION:2.0
PRODID:-//jEvents 2.0 for Joomla//EN
CALSCALE:GREGORIAN
METHOD:PUBLISH
BEGIN:VTIMEZONE
TZID:America/New_York
BEGIN:STANDARD
DTSTART:20251102T010000
RDATE:20260308T030000
TZOFFSETFROM:-0400
TZOFFSETTO:-0500
TZNAME:America/New_York EST
END:STANDARD
BEGIN:STANDARD
DTSTART:20261101T010000
RDATE:20270314T030000
TZOFFSETFROM:-0400
TZOFFSETTO:-0500
TZNAME:America/New_York EST
END:STANDARD
BEGIN:STANDARD
DTSTART:20271107T010000
RDATE:20280312T030000
TZOFFSETFROM:-0400
TZOFFSETTO:-0500
TZNAME:America/New_York EST
END:STANDARD
BEGIN:DAYLIGHT
DTSTART:20250331T180000
RDATE:20251102T010000
TZOFFSETFROM:-0500
TZOFFSETTO:-0400
TZNAME:America/New_York EDT
END:DAYLIGHT
BEGIN:DAYLIGHT
DTSTART:20260308T030000
RDATE:20261101T010000
TZOFFSETFROM:-0500
TZOFFSETTO:-0400
TZNAME:America/New_York EDT
END:DAYLIGHT
BEGIN:DAYLIGHT
DTSTART:20270314T030000
RDATE:20271107T010000
TZOFFSETFROM:-0500
TZOFFSETTO:-0400
TZNAME:America/New_York EDT
END:DAYLIGHT
END:VTIMEZONE
BEGIN:VEVENT
UID:842051b05c46e545528882316d8e5b0f
CATEGORIES:Visit - Fraternal
CREATED:20260210T140858
SUMMARY:Fraternal: Mountain: 26th District
LOCATION:Shelburne Fls Masonic Bldg @ 7 Main Street\, Shelburne Fls\, MA\, 01370
DESCRIPTION:Mountain Lodge Fraternal Visit 26th District\n\n - 7 Main Street\n - Shelbu
 rn Falls, MA 01370\n - Lodge: 7 pm\n - Suite: 8 pm
X-ALT-DESC;FMTTYPE=text/html:<p>Mountain Lodge Fraternal Visit 26th District</p><ul><li>7 Main Street</l
 i><li>Shelburn Falls, MA 01370</li><li>Lodge: 7 pm</li><li>Suite: 8 pm</li>
 </ul>
CONTACT:This email address is being protected from spambots. You need JavaScript enabled to view it.
DTSTAMP:20260426T010936
DTSTART;TZID=America/New_York:20260401T180000
DTEND;TZID=America/New_York:20260401T210000
SEQUENCE:0
TRANSP:OPAQUE
END:VEVENT
END:VCALENDAR