BEGIN:VCALENDAR
VERSION:2.0
PRODID:-//jEvents 2.0 for Joomla//EN
CALSCALE:GREGORIAN
METHOD:PUBLISH
BEGIN:VTIMEZONE
TZID:America/New_York
BEGIN:STANDARD
DTSTART:20251102T010000
RDATE:20260308T030000
TZOFFSETFROM:-0400
TZOFFSETTO:-0500
TZNAME:America/New_York EST
END:STANDARD
BEGIN:STANDARD
DTSTART:20261101T010000
RDATE:20270314T030000
TZOFFSETFROM:-0400
TZOFFSETTO:-0500
TZNAME:America/New_York EST
END:STANDARD
BEGIN:STANDARD
DTSTART:20271107T010000
RDATE:20280312T030000
TZOFFSETFROM:-0400
TZOFFSETTO:-0500
TZNAME:America/New_York EST
END:STANDARD
BEGIN:DAYLIGHT
DTSTART:20250408T170000
RDATE:20251102T010000
TZOFFSETFROM:-0500
TZOFFSETTO:-0400
TZNAME:America/New_York EDT
END:DAYLIGHT
BEGIN:DAYLIGHT
DTSTART:20260308T030000
RDATE:20261101T010000
TZOFFSETFROM:-0500
TZOFFSETTO:-0400
TZNAME:America/New_York EDT
END:DAYLIGHT
BEGIN:DAYLIGHT
DTSTART:20270314T030000
RDATE:20271107T010000
TZOFFSETFROM:-0500
TZOFFSETTO:-0400
TZNAME:America/New_York EDT
END:DAYLIGHT
END:VTIMEZONE
BEGIN:VEVENT
UID:6a1675cd86db3d79bb4d29826746a040
CATEGORIES:Visit - First Fraternal
CREATED:20260210T142017
SUMMARY:Fraternal: N. Quabbin: 26th District
LOCATION:Athol Masonic Bldg @ 336 Main Street\, Athol\, MA\, 01368
DESCRIPTION:<p>N. Quabbin Lodge Fraternal Visit 26th District</p><ul><li>336 Main Stree
 t</li><li>Athol, MA 01368</li><li>Lodge: 7 pm</li><li>Suite: 8 pm</li></ul>
DTSTAMP:20260425T153040
DTSTART;TZID=America/New_York:20260409T170000
DTEND;TZID=America/New_York:20260409T210000
SEQUENCE:0
TRANSP:OPAQUE
END:VEVENT
END:VCALENDAR