BEGIN:VCALENDAR
VERSION:2.0
PRODID:-//jEvents 2.0 for Joomla//EN
CALSCALE:GREGORIAN
METHOD:PUBLISH
BEGIN:VTIMEZONE
TZID:America/New_York
BEGIN:STANDARD
DTSTART:20251102T010000
RDATE:20260308T030000
TZOFFSETFROM:-0400
TZOFFSETTO:-0500
TZNAME:America/New_York EST
END:STANDARD
BEGIN:STANDARD
DTSTART:20261101T010000
RDATE:20270314T030000
TZOFFSETFROM:-0400
TZOFFSETTO:-0500
TZNAME:America/New_York EST
END:STANDARD
BEGIN:STANDARD
DTSTART:20271107T010000
RDATE:20280312T030000
TZOFFSETFROM:-0400
TZOFFSETTO:-0500
TZNAME:America/New_York EST
END:STANDARD
BEGIN:DAYLIGHT
DTSTART:20250911T160000
RDATE:20251102T010000
TZOFFSETFROM:-0500
TZOFFSETTO:-0400
TZNAME:America/New_York EDT
END:DAYLIGHT
BEGIN:DAYLIGHT
DTSTART:20260308T030000
RDATE:20261101T010000
TZOFFSETFROM:-0500
TZOFFSETTO:-0400
TZNAME:America/New_York EDT
END:DAYLIGHT
BEGIN:DAYLIGHT
DTSTART:20270314T030000
RDATE:20271107T010000
TZOFFSETFROM:-0500
TZOFFSETTO:-0400
TZNAME:America/New_York EDT
END:DAYLIGHT
END:VTIMEZONE
BEGIN:VEVENT
UID:2b960d06a490400f4f90d079f3f33894
CATEGORIES:Installation
CREATED:20260211T091859
SUMMARY:Puritan Lodge - Installation of Officers
LOCATION:E Bridgewater Masonic Bldg @ 38 Franklin Street\, E Bridgewater\, MA\, 0233
 3
DESCRIPTION:Puritan Lodge - Installation\nSaturday, 4PM Doors Open\n4:30PM - Installati
 on\nDinner will follow the Installation\n
X-ALT-DESC;FMTTYPE=text/html:<p>Puritan Lodge - Installation</p><p>Saturday, 4PM Doors Open</p><p>4:30PM
  - Installation</p><p>Dinner will follow the Installation</p>
DTSTAMP:20260425T223535
DTSTART;TZID=America/New_York:20260912T160000
DTEND;TZID=America/New_York:20260912T200000
SEQUENCE:0
TRANSP:OPAQUE
END:VEVENT
END:VCALENDAR