BEGIN:VCALENDAR
VERSION:2.0
PRODID:-//jEvents 2.0 for Joomla//EN
CALSCALE:GREGORIAN
METHOD:PUBLISH
BEGIN:VTIMEZONE
TZID:America/New_York
BEGIN:STANDARD
DTSTART:20251102T010000
RDATE:20260308T030000
TZOFFSETFROM:-0400
TZOFFSETTO:-0500
TZNAME:America/New_York EST
END:STANDARD
BEGIN:STANDARD
DTSTART:20261101T010000
RDATE:20270314T030000
TZOFFSETFROM:-0400
TZOFFSETTO:-0500
TZNAME:America/New_York EST
END:STANDARD
BEGIN:STANDARD
DTSTART:20271107T010000
RDATE:20280312T030000
TZOFFSETFROM:-0400
TZOFFSETTO:-0500
TZNAME:America/New_York EST
END:STANDARD
BEGIN:DAYLIGHT
DTSTART:20250319T180000
RDATE:20251102T010000
TZOFFSETFROM:-0500
TZOFFSETTO:-0400
TZNAME:America/New_York EDT
END:DAYLIGHT
BEGIN:DAYLIGHT
DTSTART:20260308T030000
RDATE:20261101T010000
TZOFFSETFROM:-0500
TZOFFSETTO:-0400
TZNAME:America/New_York EDT
END:DAYLIGHT
BEGIN:DAYLIGHT
DTSTART:20270314T030000
RDATE:20271107T010000
TZOFFSETFROM:-0500
TZOFFSETTO:-0400
TZNAME:America/New_York EDT
END:DAYLIGHT
END:VTIMEZONE
BEGIN:VEVENT
UID:5766c733b74b0a7a7a9e908d8caa86e5
CATEGORIES:Dinner
CREATED:20260214T171749
SUMMARY:Friday 3/20 Potluck Dinner, Marine Lodge, Social Hour 5:00, Dinner at 6:00 p.m.
LOCATION:Falmouth Masonic Bldg @ 160 Main Street\, Falmouth\, MA\, 02543
DESCRIPTION:Friday 3/20 Potluck Dinner, Marine Lodge, Social Hour 5:00, Dinner at 6:00 
 p.m.\n
X-ALT-DESC;FMTTYPE=text/html:<p>Friday 3/20 Potluck Dinner, Marine Lodge, Social Hour 5:00, Dinner at 6:
 00 p.m.</p>
DTSTAMP:20260426T040911
DTSTART;TZID=America/New_York:20260320T180000
SEQUENCE:0
TRANSP:OPAQUE
END:VEVENT
END:VCALENDAR