BEGIN:VCALENDAR
VERSION:2.0
PRODID:-//jEvents 2.0 for Joomla//EN
CALSCALE:GREGORIAN
METHOD:PUBLISH
BEGIN:VTIMEZONE
TZID:America/New_York
BEGIN:STANDARD
DTSTART:20251102T010000
RDATE:20260308T030000
TZOFFSETFROM:-0400
TZOFFSETTO:-0500
TZNAME:America/New_York EST
END:STANDARD
BEGIN:STANDARD
DTSTART:20261101T010000
RDATE:20270314T030000
TZOFFSETFROM:-0400
TZOFFSETTO:-0500
TZNAME:America/New_York EST
END:STANDARD
BEGIN:STANDARD
DTSTART:20271107T010000
RDATE:20280312T030000
TZOFFSETFROM:-0400
TZOFFSETTO:-0500
TZNAME:America/New_York EST
END:STANDARD
BEGIN:DAYLIGHT
DTSTART:20250512T180000
RDATE:20251102T010000
TZOFFSETFROM:-0500
TZOFFSETTO:-0400
TZNAME:America/New_York EDT
END:DAYLIGHT
BEGIN:DAYLIGHT
DTSTART:20260308T030000
RDATE:20261101T010000
TZOFFSETFROM:-0500
TZOFFSETTO:-0400
TZNAME:America/New_York EDT
END:DAYLIGHT
BEGIN:DAYLIGHT
DTSTART:20270314T030000
RDATE:20271107T010000
TZOFFSETFROM:-0500
TZOFFSETTO:-0400
TZNAME:America/New_York EDT
END:DAYLIGHT
END:VTIMEZONE
BEGIN:VEVENT
UID:2827b7cb347f3035f0f979641244ebe5
CATEGORIES:Exemplification
CREATED:20260215T214849
SUMMARY:23rd District Exemplification
LOCATION:West Boylston Masonic Bldg @ 12 Church Street\, West Boylston\, MA\, 01583
DESCRIPTION:Annual Exemplification (2nd Degree)\n6pm Dinner  ($20pp)  RSVP to This emai
 l address is being protected from spambots. You need JavaScript enabled to 
 view it.\n\n - Chicken Cordon Bleu\n - Salad, Veggies, and Rice Pilaf\n - D
 essert7pm Exemplification\n
X-ALT-DESC;FMTTYPE=text/html:<p>Annual Exemplification (2nd Degree)</p><p>6pm Dinner&nbsp; ($20pp)&nbsp;
  RSVP to <strong><joomla-hidden-mail  is-link="1" is-email="1" first="ZGRnb
 Q==" last="bWFzc21hc29uczIzLm9yZw==" text="ZGRnbUBtYXNzbWFzb25zMjMub3Jn" ba
 se="" >This email address is being protected from spambots. You need JavaSc
 ript enabled to view it.</joomla-hidden-mail></strong></p><ul><li>Chicken C
 ordon Bleu</li><li>Salad, Veggies, and Rice Pilaf</li><li>Dessert</li></ul>
 <p>7pm Exemplification</p>
DTSTAMP:20260425T190210
DTSTART;TZID=America/New_York:20260513T180000
DTEND;TZID=America/New_York:20260513T210000
SEQUENCE:0
TRANSP:OPAQUE
END:VEVENT
END:VCALENDAR