BEGIN:VCALENDAR
VERSION:2.0
PRODID:-//jEvents 2.0 for Joomla//EN
CALSCALE:GREGORIAN
METHOD:PUBLISH
BEGIN:VTIMEZONE
TZID:America/New_York
BEGIN:STANDARD
DTSTART:20251102T010000
RDATE:20260308T030000
TZOFFSETFROM:-0400
TZOFFSETTO:-0500
TZNAME:America/New_York EST
END:STANDARD
BEGIN:STANDARD
DTSTART:20261101T010000
RDATE:20270314T030000
TZOFFSETFROM:-0400
TZOFFSETTO:-0500
TZNAME:America/New_York EST
END:STANDARD
BEGIN:STANDARD
DTSTART:20271107T010000
RDATE:20280312T030000
TZOFFSETFROM:-0400
TZOFFSETTO:-0500
TZNAME:America/New_York EST
END:STANDARD
BEGIN:DAYLIGHT
DTSTART:20250317T190000
RDATE:20251102T010000
TZOFFSETFROM:-0500
TZOFFSETTO:-0400
TZNAME:America/New_York EDT
END:DAYLIGHT
BEGIN:DAYLIGHT
DTSTART:20260308T030000
RDATE:20261101T010000
TZOFFSETFROM:-0500
TZOFFSETTO:-0400
TZNAME:America/New_York EDT
END:DAYLIGHT
BEGIN:DAYLIGHT
DTSTART:20270314T030000
RDATE:20271107T010000
TZOFFSETFROM:-0500
TZOFFSETTO:-0400
TZNAME:America/New_York EDT
END:DAYLIGHT
END:VTIMEZONE
BEGIN:VEVENT
UID:e2faeb391e1d1cdef968fcea6c78c879
CATEGORIES:Lodge of Instruction
CREATED:20260301T183524
SUMMARY:Cawnacome 7pm LOI 20th District
LOCATION:Bourne Masonic Bldg @ 77 Valley Bars Road\, Bourne\, MA\, 02532
DESCRIPTION:The 20th District Lodge of Instruction is scheduled to take place on March 
 18th, at Cawnacome Sunshine Lodge, 77 Val-\nley Bars Road, Bourne, MA. Dinn
 er will be served at 6pm at the Weary Travelers Club. Reservations are a mu
 st. Please call\nthe Wearys hotline at 508-759-2707 for reservations. Worsh
 ipful Mark Lindsay will open Lodge at 7pm and has arranged for a\nvery spec
 ial guest to join us. Speaker will be Massachusetts State Representative Jo
 hn Gaskey who will be giving a talk about our State Government. John Gaskey
  is the current Representative for the 2nd Plymouth District, and former Co
 ast Guard Veteran.\nPlease join us for a fun and informative night!\n
X-ALT-DESC;FMTTYPE=text/html:<p>The 20th District Lodge of Instruction is scheduled to take place on Mar
 ch 18th, at Cawnacome Sunshine Lodge, 77 Val-<br />ley Bars Road, Bourne, M
 A. Dinner will be served at 6pm at the Weary Travelers Club. Reservations a
 re a must. Please call<br />the Wearys hotline at 508-759-2707 for reservat
 ions. Worshipful Mark Lindsay will open Lodge at 7pm and has arranged for a
 <br />very special guest to join us. Speaker will be Massachusetts State Re
 presentative John Gaskey who will be giving a talk about our State Governme
 nt. John Gaskey is the current Representative for the 2nd Plymouth District
 , and former Coast Guard Veteran.<br />Please join us for a fun and informa
 tive night!</p>
DTSTAMP:20260426T035534
DTSTART;TZID=America/New_York:20260318T190000
SEQUENCE:0
TRANSP:OPAQUE
END:VEVENT
END:VCALENDAR