BEGIN:VCALENDAR
VERSION:2.0
PRODID:-//jEvents 2.0 for Joomla//EN
CALSCALE:GREGORIAN
METHOD:PUBLISH
BEGIN:VTIMEZONE
TZID:America/New_York
BEGIN:STANDARD
DTSTART:20251102T010000
RDATE:20260308T030000
TZOFFSETFROM:-0400
TZOFFSETTO:-0500
TZNAME:America/New_York EST
END:STANDARD
BEGIN:STANDARD
DTSTART:20261101T010000
RDATE:20270314T030000
TZOFFSETFROM:-0400
TZOFFSETTO:-0500
TZNAME:America/New_York EST
END:STANDARD
BEGIN:STANDARD
DTSTART:20271107T010000
RDATE:20280312T030000
TZOFFSETFROM:-0400
TZOFFSETTO:-0500
TZNAME:America/New_York EST
END:STANDARD
BEGIN:DAYLIGHT
DTSTART:20250731T080000
RDATE:20251102T010000
TZOFFSETFROM:-0500
TZOFFSETTO:-0400
TZNAME:America/New_York EDT
END:DAYLIGHT
BEGIN:DAYLIGHT
DTSTART:20260308T030000
RDATE:20261101T010000
TZOFFSETFROM:-0500
TZOFFSETTO:-0400
TZNAME:America/New_York EDT
END:DAYLIGHT
BEGIN:DAYLIGHT
DTSTART:20270314T030000
RDATE:20271107T010000
TZOFFSETFROM:-0500
TZOFFSETTO:-0400
TZNAME:America/New_York EDT
END:DAYLIGHT
END:VTIMEZONE
BEGIN:VEVENT
UID:e4a309f8313dbcf9ae4e0489ca6351fcRR9954
CATEGORIES:Blood Drive
CREATED:20260210T091226
SUMMARY:Blood Drive
LOCATION:Holliston Masonic Bldg @ 657 Washington Street\, Holliston\, MA\, 01746
DESCRIPTION:The Kraft Family Blood Donor Center presents:\nBlood Drive at Mount Hollis 
 Lodge\n8am - 2:30pm \nRear Parking lot\n
X-ALT-DESC;FMTTYPE=text/html:<p>The Kraft Family Blood Donor Center presents:</p><p>Blood Drive at Mount
  Hollis Lodge</p><p>8am - 2:30pm&nbsp;</p><p>Rear Parking lot</p>
DTSTAMP:20260425T220722
DTSTART;TZID=America/New_York:20260801T080000
DTEND;TZID=America/New_York:20260801T143000
SEQUENCE:0
TRANSP:OPAQUE
END:VEVENT
END:VCALENDAR